BEGIN:VCALENDAR
VERSION:2.0
PRODID:-//Eventin//Event Calendar//EN
CALSCALE:GREGORIAN
METHOD:PUBLISH
BEGIN:VEVENT
UID:43718b264f19bce78b9516bc31610730@wtgeorgia.com
SUMMARY:Guria And Samegrelo with Kolkheti National Park Overnight tour NEW 
 - 16-17 May
DESCRIPTION:Join us on a unique Guria and Samegrelo tour created for a diff
 erent kind of experience. This is a great time to visit these regions. We w
 ill enjoy local cuisine\, traditional singing\, local wine\, a boat ride in
  Kolkheti National Park\, Birds\, Greenery\, Blue River\, Natural sulphur b
 aths\, and much more.\n \nDates: 16-17 MayDuration: 2 Days/1 NightDriving 
 distance: 800 kmTrip difficulty: EasyGroup size: Min. 5 participantsAccommo
 dation: shared twin/double rooms in a local guesthouse. single is available
  upon request.Pick-up: 09:00\, Samaia Garden\, TbilisiDrop-off:  The arriv
 al time will depend on the traffic. We will depart directly after lunch. we
  expect to be in Tbilisi at 7 pm.Price:  690 GEL \n \n\nItinerary:\nDay 
 1Tbilisi – Lanchkhuti - Poti\nEarly in the morning\, we will leave Tbilis
 i and head to the Guria region. Along the way\, we will make short stops fo
 r breaks.\nOur first visit will be to a local woman’s home in the small g
 reen village of Atsana\, where she offers a unique local experience. She wi
 ll show us how to make the traditional meal Brinjula during a masterclass. 
 Afterward\, we will taste it together with tea and local snacks while liste
 ning to her stories about the area and local life.\nOur next stop will be a
  family winery with a beautiful garden and vineyard. The hosts offer tradit
 ional folklore masterclasses\, and we will enjoy local songs while tasting 
 their homemade wine.\nLater\, we will continue to Poti city. After checking
  into the guesthouse\, we will go to see the Poti lighthouse and watch the 
 sunset. Dinner will be in a local restaurant (self-paid).\n\n \nDay 2Poti 
 - Kolkheti National Park - Nokalakevi - Tbilisi\nAfter breakfast\, we will 
 start the morning with a boat ride in Kolkheti National Park\, where we can
  enjoy the greenery\, birds\, and views of Paliastomi Lake.\nNext\, we will
  visit Nokalakevi\, where a clear blue river meets natural hot sulphur spri
 ngs. Please bring swimwear if you would like to go into the water.\nOur nex
 t stop will be a birdwatching area where grey herons can often be seen nest
 ing in the trees.\nAfterward\, we will have a lunch stop (self-paid) before
  driving back to Tbilisi.\n \n\n\n \n\n \nInclusions:\n\nTransportation\
 nEnglish-speaking guide\nAccommodation with breakfast in shared twin/double
  rooms in a guesthouse\nBrinjula Masterclasses\nWine tasting and traditiona
 l singing.\nBoat ride\n\n \n\nExclusions:\n\nDinner on day 1\, Lunch on da
 y 2\nAnything not mentioned\nGratitudes\n\n \nNote:Please check Terms and 
 Conditions for our cancellation and insurance policy\n \n\nHOW TO PREPARE 
 FOR THE TOUR\n\nMEETING TIME AND PLACEWe meet 09:00 at Samaia Garden. Pleas
 e be on time. In case of any delays\, please inform your guide. Otherwise\,
  the group will depart without you.\nWEATHER\nGeorgian weather changes ofte
 n and fast. For this reason\, it is essential to follow the weather forecas
 t closely. The weather forecast is here. Please check it the night before t
 he tour to be well prepared. \nWHAT TO WEARWear comfortable clothing and s
 hoes. bring your swimwear with you\, towels.  bring raincoats if it shows 
 rain. a cap or sunglasses\, sunscreen. \nFOOD & DRINKSThere will be lots o
 f opportunities to get something to eat on this tour. Pack only light snack
 s and a bottle of water. If you run out of something\, we will stop at the 
 supermarket.\nOTHER ESSENTIAL ITEMSIf you are prone to motion sickness\, pl
 ease have medicine with you. Bring a day pack to carry important items with
  you.\nGUIDE We will send you guide's contact details a few days before th
 e tour. Please make sure to check your inbox and spam.
LOCATION:Guria\, Georgia
DTSTAMP:20260423T161957Z
DTSTART:20260516T050000Z
DTEND:20260517T150000Z
END:VEVENT
END:VCALENDAR
