BEGIN:VCALENDAR
VERSION:2.0
PRODID:-//Eventin//Event Calendar//EN
CALSCALE:GREGORIAN
METHOD:PUBLISH
BEGIN:VEVENT
UID:226eba7a87d149f3b4ff94ff4123ee40@wtgeorgia.com
SUMMARY:Private David Gareja\, Rainbow Hills\, Sabereebi Caves Day Tour –
  Anytime from May to November
DESCRIPTION:Full Day tour to David Gareja Monastery Complex and Georgian se
 mi-desert! Let’s hike together around the Mravaltskaro Reservoir and admi
 re the stunning rainbow hills surrounding it. We will also peak into the Na
 tlismtsemeli Monastery and Explore Sabereebi caves.\nDate: May - NovemberDu
 ration: 1 dayDriving distance: 250 kmTrip difficulty: Easy BUT includes o
 ff-road drives.Group size: AnyPick-up: 09:00 Your hotel LocationDrop-off: A
 round 18:00 (The arrival time will depend on the group’s sightseeing spee
 d and traffic) your hotel location.Hiking included: YES – We will walk a
  short distance on the “Rainbow” hills. There is no clear walking path\
 , and the terrain consists of sand and gravel. We recommend wearing proper 
 hiking shoes to avoid slipping.\n\n \n\nItinerary:\nWe will leave Tbilisi 
 early in the morning and head to Mravaltskaro Reservoir. Mravaltskaro is 
 famed for the colorful\, rainbow-like hills surrounding it. We will also v
 isit Natlismtsemeli Monastery. The complex was originally established at 
 the end of the 7th century. Nowadays\, it’s one of the main pilgrimage si
 tes in the region.\nFinally\, we will reach David Lavra – the main sect
 ion of David Gareja Monastery Complex\, founded in the 6th century (Please 
 be aware that the monastery is partly on the territory of Azerbaijan. Some 
 parts are unavailable for sightseeing). Time and weather permitting\, we wi
 ll also stroll across the “Rainbow Hills” surrounding the shrine.\nWe w
 ill stop at a local guesthouse in Udabno. The meal is NOT included in the
  price of the tour. You can order it a la carte.Next stop will Be Sabereebi
  cave monasteries\, where you have to walk uphills to reach and explore fro
 m inside.Tour might switch and align sightseeing stops differently\, due to
  weather and road conditions.Return to Tbilisi. The end of the tour.\n\nPri
 ce 4 WD car with English speaking driver:2 persons - 680 Gel\n \n\n \n\nN
 ote:Please check Terms and Conditions for our cancellation and insurance 
 policy\n \n \n\nHOW TO PREPARE FOR THE TOUR\n\n \nWEATHER\nGeorgian weat
 her changes often and fast. For this reason\, it’s essential to follow th
 e weather forecast closely. Here is the weather forecast. Please check it
  the night before the tour to be well prepared.\nWHAT TO WEAR\nPlease wear 
 clothes appropriate to the weather.Hiking boots or sports shoes with a good
  grip are recommended.\nGeorgian customs require a strict dress code in mon
 asteries. Women are obliged to cover their heads and legs. We recommend bri
 nging one or two scarves for that purpose. Otherwise\, you will have to wea
 r communal clothes. Men must wear long trousers.\nIt can be muddy at rainbo
 w hills. Having extra shoes are comfortable. Bring raincoats.\nFOOD & DRINK
 SAlways make sure you have enough drinking water. 1.5 liter should be enoug
 h for one day.Please bring snacks until we stop at restaurant.\nOTHER ESSEN
 TIAL ITEMSIf you are prone to motion sickness\, please have medicine with y
 ou.Bring a daypack to carry your items. It’s better to take a plane pillo
 w for a nap during the ride.If the weather forecast is sunny\, bring sunscr
 een and sunglasses.\nGUIDE We will send you guide’s contact details a fe
 w days before the tour. Please make sure to check your inbox and spam.\n\n
  
LOCATION:David Gareja\, Georgia
DTSTAMP:20260423T150117Z
DTSTART:20260421T050000Z
DTEND:20311130T140000Z
END:VEVENT
END:VCALENDAR
