BEGIN:VCALENDAR
VERSION:2.0
PRODID:-//Eventin//Event Calendar//EN
CALSCALE:GREGORIAN
METHOD:PUBLISH
BEGIN:VEVENT
UID:fec5a2b68aa35316b867b8a1a1204dfc@wtgeorgia.com
SUMMARY:Georgia holidays from Batumi to Tbilisi and more - 26 May to 2 June
DESCRIPTION:26 May – Arrival in GeorgiaUpon arrival at Sarpi Border\, you
  will meet your English-speaking driver.Private transfer to your hotel in B
 atumi.Check-in and free time to rest after the journey or enjoy a walk alon
 g Batumi Boulevard and seaside area on your own.Overnight in Batumi.\n27 Ma
 y – Batumi – Martvili – KutaisiAfter breakfast at the hotel\, your dr
 iver will pick you up.Visit Batumi Botanical Garden\, one of the largest bo
 tanical gardens in the region\, offering panoramic views over the Black Sea
 .Easy walking route through the garden and city viewpoints (approx. 5 km in
  total).Continue driving to Martvili Canyon for sightseeing\, including can
 yon views and walking paths along turquoise water.Lunch can be arranged in 
 Martvili.Transfer to Kutaisi.Dinner is recommended at Sisters restaurant.Ov
 ernight in Kutaisi.\n28 May – Guided Kutaisi & SurroundingsAfter breakfas
 t\, meet your professional local guide.Drive to Tskaltubo Sanatoriums and e
 xplore the historic abandoned spa complexes.Walk around the abandoned Tskal
 tubo railway station and surrounding area.Visit Prometheus Cave\, famous fo
 r its impressive stalactites\, stalagmites\, and underground halls.Continue
  with a guided Kutaisi walking tour (approx. 5 km)\, including city center\
 , bridges\, historical areas\, cultural landmarks\, and a visit to the loca
 l bazaar.Lunch can be arranged in Tskaltubo restaurants\; dinner in Kutaisi
  city restaurants.Overnight in Kutaisi.\n29 May – Kutaisi – Uplistsikhe
  – Jvari – TbilisiAfter breakfast\, meet your driver and depart towards
  Tbilisi.On the way\, visit Uplistsikhe\, an ancient cave town carved into 
 rock (approx. 2 km walking path with stairs).This day includes only the cav
 e-path walk\; additional long walking is not recommended\, though you may t
 ake a short stroll near the river area.Lunch can be arranged at a restauran
 t near Uplistsikhe.Continue to Jvari Monastery with panoramic views over Mt
 skheta and the confluence of rivers.Arrival in Tbilisi.Dinner in a Tbilisi 
 restaurant.Overnight in Tbilisi.\n30 May – Tbilisi City TourAfter breakfa
 st\, meet your professional city guide.Guided walking tour of Tbilisi (appr
 ox. 5–6 km\, 3–4 hours)\, including Old Town\, Bridge of Peace\, Rike P
 ark\, cable car ride\, Metekhi Church and bridge\, Abanotubani sulfur baths
  district\, waterfall\, narrow streets\, and an introduction to local cultu
 re and history.Free time afterward to explore the city independently\, shop
 \, or relax.Overnight in Tbilisi.\n31 May – Kazbegi & JutaEarly breakfast
  at the hotel (around 7–8 am).Meet your guide and depart towards the Kazb
 egi Region.Visit Ananuri Fortress and stop at Zhinvali Reservoir for photos
 .Continue to Juta for hiking.Hiking options:– Easy option: 2–3 km walk 
 to panoramic viewpoints– Extended option: 7–8 km hike towards the lakeL
 unch and dinner available at local restaurants.Transfer to Stepantsminda.Ov
 ernight in Stepantsminda.\n\n\n\n\n\n\n\n\nJuta Lake Hiking Details\nStarti
 ng point: Juta village (approx. 2\,200 m above sea level)Ending point: Juta
  Lake / Chaukhi Lake (approx. 2\,600 m above sea level)\nHiking distance:
 • One way: approx. 3.5–4 km• Round trip: approx. 7–8 km\nElevation 
 gain: approx. 400–450 m\nHiking duration:• One way: 1.5–2 hours• Ro
 und trip: 3.5–4.5 hours (including short stops)\nTrail description:Wide m
 ountain trail following the river valley\, gradually ascending through alpi
 ne meadows.No technical sections\, no climbing required.Last part slightly 
 steeper but still walkable.\nDifficulty level:Easy to moderate.Suitable for
  people with basic hiking experience and normal physical condition.\nTerrai
 n:Dirt path\, grass\, small stones\, occasional uneven sections.Can be mudd
 y after rain.\n \n\n\n\n\n\n\n\n \n \n1 June – Gveleti & Return to Tbi
 lisiAfter breakfast\, drive to Dariali Gorge.Hiking to Gveleti Waterfall (a
 pprox. 4–5 km round trip on forest and stone trail).Optional visit to Dar
 iali Monastery and a local winery.Visit Gergeti Trinity Church with views o
 f Mount Kazbek.Return drive to Tbilisi.Overnight in Tbilisi.\n \nGveleti W
 aterfall Hiking Details\nStarting point: Parking area in Gveleti village / 
 Dariali GorgeEnding point: Gveleti Waterfall\nHiking distance:• One way: 
 approx. 2–2.5 km• Round trip: approx. 4–5 km\nElevation gain: approx.
  250–300 m\nHiking duration:• One way: 45–60 minutes• Round trip: 1
 .5–2 hours (including stops)\nTrail description:Narrow mountain trail thr
 ough forest and rocky terrain.Gradual ascent with short steeper sections ne
 ar the waterfall.Some parts include stones\, tree roots\, and uneven ground
 .\nDifficulty level:Easy to moderate.Suitable for people with basic hiking 
 ability.\nTerrain:Forest path\, stones\, rocky sections\, occasional wet or
  slippery areas.\n \n \n2 June – DeparturePrivate airport transfer acco
 rding to flight schedule.\nInclusions:7 nights hotel accommodation (maximum
  125 EUR per night\, breakfast included)English-speaking driver throughout 
 the tourProfessional guide in Kutaisi\, Tbilisi\, and KazbegiOvernight cost
 s for driver and guideAirport transfer\n \nNot Included:\n\nEntrance fees 
 (Uplistsikhe\, Botanical Garden\, Martvili Canyon)\nTravel insurance\nMeals
 \nTips\nAny additional or optional services\n\n \n\nTotal Cost:8\,906 GEL 
 total for 2 personsApprox. 2\,830 EUR (based on current exchange rate)\n\nT
 o confirm the booking\, a 10% deposit of the total tour price is required
 .You can book one ticket online\; this 10% deposit is non-refundable.\nThe
  remaining balance can be paid in cash.Our tour manager will visit you at t
 he hotel.Cash payments are accepted in GEL\, USD\, or EUR.\nIf the tour is 
 cancelled from your side\, no additional charges apply\; only the 10% depos
 it remains non-refundable.
LOCATION:Georgia
DTSTAMP:20260423T151219Z
DTSTART:20260526T172000Z
DTEND:20260602T101000Z
END:VEVENT
END:VCALENDAR
