BEGIN:VCALENDAR
VERSION:2.0
PRODID:-//Eventin//Event Calendar//EN
CALSCALE:GREGORIAN
METHOD:PUBLISH
BEGIN:VEVENT
UID:fc709fe391f473fd95dc1a7d67d2ffdb@wtgeorgia.com
SUMMARY:Mestia to Ushguli Trekking tour for six travelers - 25 July to 1 Au
 gust
DESCRIPTION:Day 1 – ArrivalArrival at Tbilisi International Airport\nTran
 sfer: Tbilisi Airport → Tbilisi Hotel\nAccommodation: twin rooms with bre
 akfast (3-star hotel)\n \n \nDay 2 – Tbilisi → MestiaAfter breakfast\
 , transfer to Mestia.\nStops during the trip for stretching and lunch stop 
 at a restaurant (meals self-paid)\nEvening: Dinner is included\nOvernight i
 n Mestia\n \n \nDay 3 – Mestia→ Zhabeshi Trek\nIn the morning\, after
  breakfast\, the group will grab their lunch boxes and head to the trail.\n
 Hiking Distance: 16.1 km Elevation: 763 m uphill\, 523 m downhillTypical h
 iking time: 4–5 hours including breaks\nDinner includedOvernight in Zhabe
 shi Guesthouse\n \n \nDay 4 – Zhabeshi → Adishi\nDistance: 10.6 kmEle
 vation: 909 m up\, 527 m down\nAfter breakfast\, the group will take lunch 
 boxes and begin the hike to Adishi.\nDinner will be providedOvernight in Ad
 ishi\n \nDay 5 – Adishi → Iprali\nDistance: 18.7 km\nElevation: 860 m 
 up\, 1069 m down\nAfter breakfast\, the group takes their lunch boxes and b
 egins hiking toward Iprali.\nShortly after departure\, there will be a rive
 r crossing on horseback (included in the tour).\nDinner will be servedOvern
 ight in Iprali\n \n \nDay 6 – Iprali → Ushguli\nDistance: 12.4 km\nEl
 evation: 677 m up\, 436 m down\nAfter breakfast\, with lunch boxes\, the gr
 oup begins hiking to Ushguli.\nDinner includedOvernight in Ushguli\n \n \
 nDay 7 – Ushguli → Tbilisi Transfer\nAfter breakfast\, return to Tbilis
 i.\nThere will be stops along the way for stretching and meals (self-paid a
 t restaurants).\nCheck-in: Tbilisi Hotel – rooms\, breakfast included (3-
 star hotel)\n \n \nDay 8 - Departure After breakfast\, transfer to the ai
 rport. Departure from Tbilisi\n \n \n1985 GEL per person (based on 6 part
 icipants)\nPrice includes:• Tbilisi hotel ↔ airport transfers (airport 
 transfers only\, no sightseeing)• Tbilisi → Mestia transfer• Local hi
 king guide starting from Day 3 (meeting in Mestia in the morning\; service 
 ends after drop-off in Ushguli)• Ushguli → Tbilisi transfer\nAccommodat
 ion & meals:• 3 twin rooms + 1 room for the guide• Overnight stays in: 
 Mestia\, Zhabeshi\, Adishi\, Iprari\, Ushguli• All meals included: dinner
 \, breakfast\, lunch boxes\nAdditional inclusions:• Horses for river cros
 sings• Extra luggage transfer by car between villages\n \n 
LOCATION:Georgia
DTSTAMP:20260424T175812Z
DTSTART:20260815T172000Z
DTEND:20260823T101000Z
END:VEVENT
END:VCALENDAR
