BEGIN:VCALENDAR
VERSION:2.0
PRODID:-//Eventin//Event Calendar//EN
CALSCALE:GREGORIAN
METHOD:PUBLISH
BEGIN:VEVENT
UID:2c9be3c3dca81b12dcc32fc6c535d636@wtgeorgia.com
SUMMARY:Georgia Trekking & Cultural Tour for Sy Lee / 15-23 August 2026
DESCRIPTION: \n\nGeorgia Trekking & Cultural Tour – Detailed Itinerary\n
 \nDay 0 (Aug 15): Arrival in Tbilisi\nArrival in Tbilisi at 21:20.Transfer 
 to the hotel.\nIncluded:\n\n\nTransportation\n\n\none Meeting guide at the 
 airport\n\n\n3-star hotel with breakfast in a central location\n\n\nRoom ty
 pe: twin / double / triple sharing\nCar type: 2x Mercedes Sprinters Minibus
 es \nHotel check-in and overnight in Tbilisi.Driving time from the airport
  to the hotel is approximately 1 hour.\n\nDay 1 (Aug 16): Juta Valley Trekk
 ing & Gergeti Trinity Church\nBreakfast at the hotel.Meet your two trekking
  guides and depart at 09:00.\nCar type:5 × Mitsubishi Delica 4WD vehicles.
 Each vehicle fits 6 passengers and has a roof luggage rack\, sufficient for
  all equipment.\nStops and plan:\n\n\nJinvali Reservoir\n\n\n11:00 – Anan
 uri Fortress\n\n\n12:00 – Trekking in Juta Valley (Tina Lake area) until 
 approx. 17:00Juta Valley – Tina Lake TrekDistance: approx. 6–7 km (roun
 d trip)Elevation gain: approx. +350–400 mHiking time: 3–4 hours includi
 ng breaksDifficulty: Easy to moderateTrail description: well-defined mounta
 in trail with gradual ascent\, alpine meadows\, river views\, and open vall
 ey landscapes. Suitable for first-time hikers with normal fitness.\n\n\nDri
 ve to Stepantsminda\n\n\nLate meal at a local restaurant (self-paid)\n\n\nV
 isit Gergeti Trinity Church\n\n\nHotel check-in in Stepantsminda.Around 21:
 00 – overnight in Stepantsminda\, 3-star hotel\, twin/double/triple rooms
 .\nOn this day\, you may choose between an early lunch or a late meal and c
 oordinate this with your guide.\n\nDay 2 (Aug 17): Truso Valley Trekking & 
 Winery Visit\nBreakfast.Meet at 09:00.\nVisit KTW Winery for a 1-hour wine 
 tasting.Then drive to Truso Valley.\n12:00 – Hike toward Truso Lake and Z
 akagori Fortress until approx. 15:00Truso Valley Trek (to Zakagori Fortress
  / Truso Lake area)Distance: approx. 12–14 km (round trip)Elevation gain:
  approx. +250–300 mHiking time: 3–4 hours including breaksDifficulty: E
 asy to moderateTrail description: mostly flat wide valley trail\, passing m
 ineral springs\, abandoned villages\, travertine formations\, and river cro
 ssings. No technical sections.\nLate lunch at a local restaurant (self-paid
 ).16:00–18:00 – return drive toward Tbilisi.\nAround 21:00 – overnigh
 t in Tbilisi.\n\nDay 3 (Aug 18): Transfer to Mestia\nBreakfast.Meet your on
 e guide at 08:00.\nTransfer to Mestia.Restaurant stop en route (self-paid).
 \nCar type: 2x Mercedes Sprinter\nNo problem to leave extra luggage at the 
 Tbilisi hotel.\nCheck-in at Mestia guesthouse around 20:00.Room type: same 
 as previous nights.Dinner included (guide will inform the host about arriva
 l time).\nOvernight in Mestia.\n\nDay 4 (Aug 19): Mestia → Zhabeshi Trekk
 ing\nBreakfast.Pack lunch boxes.\nLeave extra luggage at the guesthouse ent
 rance for vehicle transfer to Zhabeshi.Meet your two trekking guides at 09:
 00 or 10:00 and start trekking.\nHiking details:\n\n\nDistance: 16.1 km (ma
 y be shorter depending on drop-off point)\n\n\nElevation: +763 m / −523 m
 \n\n\nHiking time: approx. 4–5 hours including breaks\n\n\nExtra luggage 
 transferred to Zhabeshi in advance.Dinner included.Overnight in Zhabeshi gu
 esthouse.\n\nDay 5 (Aug 20): Zhabeshi → Adishi Trekking\nBreakfast.Meet y
 our two trekking guides at 09:00 or 10:00.\nPack lunch boxes and leave extr
 a luggage at the entrance.\nHiking details:\n\n\nDistance: 10.6 km\n\n\nEle
 vation: +909 m / −527 m\n\n\nLuggage transported by vehicle.Dinner includ
 ed.Overnight in Adishi.\n\nDay 6 (Aug 21): Adishi → Iprari Trekking\nBrea
 kfast.Meet your  your two trekking guides  at 09:00 or 10:00.\nPack lunch
  boxes and leave extra luggage at the entrance.\nHiking details:\n\n\nDista
 nce: 18.7 km\n\n\nElevation: +860 m / −1\,069 m\n\n\nHorseback river cros
 sing included shortly after departure.Luggage transported by vehicle.Dinner
  included.Overnight in Iprari.\n\nDay 7 (Aug 22): Iprari → Ushguli → Tb
 ilisi\nBreakfast.Pack lunch boxes.Meet your drivers at 09:00.\nTransfer to 
 Ushguli\, photo stops in Ushguli.Around 10:00 – continue transfer to Tbil
 isi.\nRestaurant stop on request (self-paid).Hotel check-in in Tbilisi arou
 nd 20:00.\n\nDay 8 (Aug 23): Tbilisi City Tour & Departure\nBreakfast.We su
 ggest finishing breakfast by 08:00 and starting the tour at 09:00.\nMeet yo
 ur one guide.Tbilisi city tour including:\n\n\nCable car tickets\n\n\nMothe
 r of Georgia\n\n\nRike Park\n\n\nSulphur bath district\n\n\nTransfer to the
  airport by 2x Mercedes Sprinters.\nThere is no time for a lunch break\; ho
 wever\, the route offers many street food options.Transfer time to the airp
 ort is approximately 45 minutes.Arrival at the airport is planned 3 hours b
 efore departure (14:10).\n\nPrice (based on 24 tourists)\n2\,080 GEL per pe
 rson(approx. 780 USD per person at today’s rate)\n\nInclusions\n\n\nAll t
 ransfers\n\n\nMitsubishi Delica 4WD minivans\n\n\nAirport meet & assist gui
 de\n\n\nTbilisi city tour guide\n\n\nGuesthouse accommodation in Mestia\, Z
 habeshi\, Adishi\, Iprari(breakfast\, lunch boxes\, and dinner included)\n\
 n\nExtra luggage transfer between villages during trekking\n\n\nTwo profess
 ional trekking guides\n\n\nHorse support during river crossing\n\n\nHotel a
 ccommodation in Tbilisi: 3 nights with breakfast\n\n\nHotel accommodation i
 n Stepantsminda: 1 night with breakfast\n\n\nCable car tickets\n\n\nEntranc
 e fees as per itinerary\n\n\n\nNot Included\n\n\nTravel insurance\n\n\nMeal
 s in Tbilisi (only hotel breakfast included)\n\n\nMeals in Stepantsminda (o
 nly breakfast included\; restaurants available)\n\n\nTips\n\n\nAny addition
 al or optional services\n\n\n\nThe tour is calculated based on 24 tourists.
 You are free to adjust the group size.For a smaller group\, vehicle types r
 emain the same.For a larger group\, an additional small vehicle will be req
 uired.\nOur standard cancellation policy link: ________https://wtgeorgia.co
 m/wtgeorgia-terms-and-conditions/As this is a large group tour\, we will pr
 epare a custom cancellation policy.\nTo confirm the booking\, a 10% deposit
  of the total tour price is required.You can book one ticket online\; this 
 10% deposit is non-refundable.\nThe remaining balance can be paid in cash.O
 ur tour manager will visit you at the hotel.Cash payments are accepted in G
 EL\, USD\, or EUR.\nIf the tour is cancelled from your side\, no additional
  charges apply\; only the 10% deposit remains non-refundable.\n\nValidity o
 f Quotation\nThe price is fixed until July.From July onward\, prices will n
 eed to be recalculated due to last-minute booking conditions.\nFor payment 
 confirmation and remaining balance calculations\, we can issue an official 
 invoice.\n\nMountain Village Accommodation\nPlease find examples of guestho
 uses we work with.Most rooms have private bathrooms.In rare cases\, bathroo
 ms may be shared with one additional room.We actively avoid shared bathroom
 s and have not had shared-bathroom bookings in the past.\nGuesthouse exampl
 es:\n\n\nWhite House Nakani – Mestia\n\n\nFamily Hotel Kala\n\n\nUcha Gue
 sthouse – Iprari\n\n\nCaucasioni Guesthouse – Adishi\n\n\nGogia Guestho
 use – Zhabeshi\nImportant Notes:\n\n\nThe itinerary is intensive with a t
 ight schedule and limited rest time. If you prefer more rest\, some activit
 ies will need to be skipped.\n\n\nWeather conditions in the mountains can c
 hange quickly. In case of bad weather\, the guide may adjust the hiking rou
 te\, duration\, or timing.\n\n\nIf hiking is not possible due to weather or
  safety reasons\, the hike will be skipped and replaced with driving or res
 t time where possible.\n\n\nDaily schedules may change due to road conditio
 ns\, traffic\, or unforeseen local circumstances.\n\n\nMountain guesthouses
  are simple and authentic\; comfort standards differ from city hotels. it h
 as electricity\, hot water\, heaters\, towels.\n\n\nParticipants should hav
 e good physical condition and prior hiking experience is recommended.\n\n\n
 Proper hiking shoes\, rain protection\, and warm layers are mandatory.\n\n\
 nEarly departures are required on several days to complete the program safe
 ly.\n\nInternet local coverage is normal - good mostly everywhere. you will
  need to purchase e sim of Magti or Silknet (not celfie it is not good for 
 mountains). or please let us know if you need physical sim cards on arrival
 . \n\n\n\n\n 
LOCATION:Georgia
DTSTAMP:20260423T151117Z
DTSTART:20260815T172000Z
DTEND:20260823T101000Z
END:VEVENT
END:VCALENDAR
