BEGIN:VCALENDAR
VERSION:2.0
PRODID:-//Eventin//Event Calendar//EN
CALSCALE:GREGORIAN
METHOD:PUBLISH
BEGIN:VEVENT
UID:c7aa9659dc3b3e83590609de99765664@wtgeorgia.com
SUMMARY:Food for Stray Dogs
DESCRIPTION:Estimated stray dog population in Georgia about 300\,000 – 35
 0\,000 stray dogs nationwide.\n \n\nIn Tbilisi alone\, official counts put
  around 30\,000 + street dogs. but in Tbilisi dogs are well feed (sometimes
  over feed). dogs outside of Tbilisi are starving. We often go on tours and
  meet them\, pet them and feed them with our own funds\, but we don't have 
 much to give. This is the donation link we created for those who want's to 
 help us!\n \nAs many of you may have noticed\, we always keep a bag of dog
  food in the trunk to feed stray dogs we encounter. Most of these dogs live
  in difficult conditions\, particularly in rural areas\, on the streets\, o
 r along hiking trails. We’ve made it a habit to feed them whenever we can
 . If any of you would like to join us in this effort\, we’d be grateful f
 or your support in helping us keep food on hand\, so we’re always prepare
 d to care for our furry friends.
LOCATION:Georgia
DTSTAMP:20260423T151035Z
DTSTART:20260101T050000Z
DTEND:20320831T150000Z
END:VEVENT
END:VCALENDAR
