BEGIN:VCALENDAR
VERSION:2.0
PRODID:-//Eventin//Event Calendar//EN
CALSCALE:GREGORIAN
METHOD:PUBLISH
BEGIN:VEVENT
UID:e0a95c65df7f4c83238ecfe77507f451@wtgeorgia.com
SUMMARY:Natlismtsemeli Mountain Half Day Hike – 2 May
DESCRIPTION:Join us for a short\, beautiful hike to Natlismtsemeli Mountain
  starting from Tsodoreti. Enjoy quiet forest trails\, steady climbs\, and w
 ide panoramic views from the summit — perfect for a peaceful half-day esc
 ape near Tbilisi.\n\n\n\nDate: 2 May\nDuration: Half day \nDriving distanc
 e: 50 km\nTrip difficulty: Easy. moderate in case of snow\, moderate for no
 vice hikers.\nGroup size: Min. 5 participants\nPick-up: 10:00\, Samaia Gard
 en\, Tbilisi\nDrop-off: Around 16:00 (The arrival time will depend on the t
 raffic)\nPrice: 95 GEL\n \n\n\nTrail parameters:\n\n\nDifficulty: Easy\, M
 oderate in winter for novice hikers.\nDistance: 5.5 km total\nMin. elevatio
 n: 950m (Starting point)\nMax. elevation: 1403m\nTotal ascent: 480m\nApprox
 imate hiking time: 3-4 hrs.\nTrail description: The trail starts from Tsodo
 reti and follows a steady forest path that slowly gains elevation. The firs
 t part is an easy walk through pine and mixed woodland. Midway\, the route 
 becomes steeper as you climb the main ridge toward Natlismtsemeli. The fina
 l ascent is open and panoramic\, offering wide views over Trialeti hills an
 d Tbilisi surroundings. The summit area is spacious and peaceful\, ideal fo
 r rest. then we follow the trail and finish descent in Mskhaldidi village.\
 n\n \n \nInclusions:\n\n\nTransfers\n\n\nEnglish-speaking hiking guide\n\
 n\n\n \n\nExclusions:\n\n\nPersonal travel insurance\n\n\nMeals\n\n\n\n \
 nNote:Please check Terms and Conditions for our cancellation and insurance 
 policy\n \n\nHOW TO PREPARE FOR THE TOUR\n\nMEETING TIME AND PLACEWe meet 
 10:00 at Samaia Garden. Please be on time. In case of any delays\, please i
 nform your guide. Otherwise\, the group will depart without you.\nWEATHER\n
 Georgian weather changes often and fast. Forthis reason\, it's essential to
  follow the weather forecast closely. Here is the weather forecast . Plea
 se check it the night before the tour to be well prepared. \n \nWHAT TO W
 EAR\nPlease wear clothes appropriate to the weather. The trail we will hike
  is not very challenging. But it includes uphills and forest walk can be mu
 ddy.  if its winter please wear layers. bring extra shoes and leave it in 
 the car. Trekking poles are always helpful. proper hiking boots. top is ope
 n and can be windy.\n \n\nFOOD & DRINKS\nAlways make sure you have enough 
 drinking water. 1.5-2 litters should be enough for the day. Please make sur
 e to bring your own lunch - sandwiches\, dried fruit\, sweets. They will he
 lp you maintain your energy. we will not stop for restaurant.\n \nOTHER ES
 SENTIAL ITEMS\nIf you are prone to motion sickness\, please have medicine w
 ith you. Bring a day pack to carry important items with you. \n \n\nGU
 IDE We will send you guide's contact details a few days before the tour. P
 lease make sure to check your inbox and spam.
LOCATION:Tsodoreti\, Georgia
DTSTAMP:20260424T133118Z
DTSTART:20260502T060000Z
DTEND:20260502T120000Z
END:VEVENT
END:VCALENDAR
