BEGIN:VCALENDAR
VERSION:2.0
PRODID:-//Eventin//Event Calendar//EN
CALSCALE:GREGORIAN
METHOD:PUBLISH
BEGIN:VEVENT
UID:b3571a7cf91a1a872832def1500f37f4@wtgeorgia.com
SUMMARY:Private Bunker and Apollo Cinema Urbex tour
DESCRIPTION:Visit the abandoned Apollo Cinema in Tbilisi.\nDate: 17 AprilTi
 me: will be provided laterStart:  in Marjanishvili area (we will provide t
 he exact location later)Price: 270 gel per person in case of two participan
 ts\nThe now-a-days abandoned building of Apollo Cinema was built in 1909 an
 d represents a beautiful example of Art Neuvo architecture. In Soviet times
 \, cinema was called “October”. It’s beautiful decorations and spacio
 us hall will take you to the fantasy of beautiful balls and celebrations. T
 he Apollo Cinema in Tbilisi is an iconic\, yet abandoned building with a ri
 ch history that reflects the cultural and architectural heritage of Georgia
 ’s capital. Located in the heart of Tbilisi\, near the city’s bustling 
 Rustaveli Avenue\, the Apollo Cinema holds a special place in the history o
 f Georgian cinema and urban architecture. Despite its neglect\, the buildin
 g continues to capture the imagination of photographers\, filmmakers\, and 
 urban explorers who see beauty in its faded grandeur.You don’t need to ma
 ke any special preparations for this tour. But please make sure to wear war
 m clothes and comfortable shoes.Next you will go together with taxi to Sovi
 et Bunker\n\n\n\nAbandoned Soviet Bunker – One-hour guided tour of an un
 derground Cold War-era bunker.\n\n\nCold War History & Technology – Lear
 n how the Soviet Union prepared for nuclear and other threats\, including t
 he role of over 450 bunkers beneath Tbilisi. Discover how these facilities 
 were heated\, supplied with water\, and used for communication between citi
 es.\n\n\nRadiation Protection Systems – See the original equipment used 
 to detect and shield against radiation.\n\n\n \n \n\nInclusions:\n\n\nGui
 ded itinerary with a guide specializing in urban exploration\n\n\n 
LOCATION:Tbilisi\, Georgia
DTSTAMP:20260423T145946Z
DTSTART:20260417T140000Z
DTEND:20340920T150000Z
END:VEVENT
END:VCALENDAR
