BEGIN:VCALENDAR
VERSION:2.0
PRODID:-//Eventin//Event Calendar//EN
CALSCALE:GREGORIAN
METHOD:PUBLISH
BEGIN:VEVENT
UID:ca4567101da4712409fcbe9def1b0bd7@wtgeorgia.com
SUMMARY:Private Pankisi Valley Day Tour - All seasons
DESCRIPTION:Private tour to Visit with us Pankisi Valley and the Chechen Ki
 sts. We will peak into a mosque\, explore local mill and felt workshop\, en
 joy traditional dishes\, and more.\nDate: All seasonsDuration: 1 dayDriving
  distance: 280 kmTrip difficulty: EasyGroup size: Min. 6 participantsPick-u
 p: 09:00\, your hotel locationDrop-off: Around 20:00 (The arrival time will
  depend on the traffic)Price: 195 GEL in case of 5 participants. please ema
 il us exact number of people for exact price.\n \nItinerary:\nIn the morni
 ng\, we will head northeast to Pankisi Valley. Pankisi is home to a Chechen
  minority called Kists. Upon arrival\, we will meet our local host\, who wi
 ll guide us through the meanders of Chechen Kist culture. The day will be b
 usy – we will explore two Kist villages and visit a mosque and a felt wor
 kshop. We will also visit several historical attractions in the area\, such
  as the Pankisi Amphitheater. If the weather is good\, we will also climb t
 o the ruins of a watch tour built once by Chechen warriors.\nIn the afterno
 on\, we will enjoy lunch featuring delicious traditional Kist food. Time pe
 rmitting\, we may visit a local brewery making non-alcoholic beer made of m
 ountain berries (you can taste the beer for 10 gel). Return to Tbilisi in t
 he evening. The end of the tour.\n\n \n \n\nInclusions:\n\nTransfers\nSig
 htseeing/hiking itinerary with an English-speaking guide\nLunch\nMuseum Ent
 rance Fees\nLocal non alcohol beer tasting\n\n \nExclusions:\n\nPersonal t
 ravel insurance\nGratitudes\n\n\n \n \nNote:Please check Terms and Condit
 ions for our cancellation and insurance policy\n \n \n\nHOW TO PREPARE FO
 R THE TOUR\n\nMEETING TIME AND PLACEWe meet 9:00 at your hotel location.\nW
 EATHER\nGeorgian weather changes often and fast. For this reason\, it’s e
 ssential to follow the weather forecast closely. Here is the weather foreca
 st. Please check it the night before the tour to be well prepared.\nWHAT TO
  WEAR\nPlease wear clothes appropriate to the weather. Keep in mind that we
  will be visiting a Muslim community – dress modestly (no shorts or yoga 
 pants). men - no shorts. no top t shirts.\nFOOD & DRINKSAlways make sure yo
 u have enough drinking water. 1.5-2 liters should be enough for the day. Pl
 ease make sure to bring snacks - sandwiches\, dried fruit\, and sweets. The
 y will help you maintain your energy levels until lunch.\nOTHER ESSENTIAL I
 TEMSIf you are prone to motion sickness\, please have medicine with you. Br
 ing a day pack to carry important items with you. Sun protection.\nGUIDE W
 e will send you guide's contact details a few days before the tour. Please 
 make sure to check your inbox and spam.
LOCATION:Pankisi\, Georgia
DTSTAMP:20260423T151122Z
DTSTART:20250914T050000Z
DTEND:20380914T160000Z
END:VEVENT
END:VCALENDAR
