BEGIN:VCALENDAR
VERSION:2.0
PRODID:-//Eventin//Event Calendar//EN
CALSCALE:GREGORIAN
METHOD:PUBLISH
BEGIN:VEVENT
UID:fa7e8dcf723a280eb673c6ddaf01daa8@wtgeorgia.com
SUMMARY:Private Abudelauri Lakes (Roshka) Day Hike – June to September
DESCRIPTION:This is private day hike to the colorful Abudelauri Lakes near 
 Roshka village. Our trail will take us through a peaceful mountain valley u
 p to the southern slopes of Mount Chaukhi\, where three stunning tarns spoi
 l hikers with breathtaking colors.\nDate: from June to SeptemberDuration: 1
  dayDriving distance: 210 kmTrip difficulty: ModerateGroup size: Any sizePi
 ck-up: 08:00\, your hotel locationDrop-off: Around 21:00 (The arrival time 
 will depend on the traffic)Price: 150GEL per person in case of 5 participan
 ts. please email us exact number of persons for exact price.\n \nTrail par
 ameters:\n\n\nDifficulty: Moderate. can be challenging for inexperienced hi
 kers or hikers not used to high-altitude trails\n\nDistance: 10 km – A to
  A LOOP\nMin. elevation: 1984 m.a.s.l.\nMax. elevation: 2834 m.a.s.l.\nTota
 l ascent: 514 m\nApproximate hiking time: 6 hrs. (4 hrs moving time\, 2 hrs
  stopped time)\nTrail description:THIS IS THE NEW TRAIL. The trail starts a
 t the end of Roshka and leads through a picturesque valley to the foothills
  of Mount Chaukhi. Trail has 4 sections:From end of Roshka village to White
  lake\, from White lake to Blue lake\, from Blue lake to Green lake\, from 
 Green lake to end of Roshka village.\n\n \nItinerary:\nWe will leave Tbili
 si early in the morning and drive to the tiny\, remote village of Roshka. I
 n Roshka\, we will leave our vehicles and start our hike.\nThe walk will ta
 ke us through a beautiful\, spacious valley. We will cross a small stream a
 nd gradually start hiking towards Mount Chaukhi\, rising at the valley’s 
 northern end. At the path’s end lies White Lake fed by the water sipping 
 from Chaukhi Glacier.Once we reach White Lake\, we rest\, enjoy the views\,
  and eat our picnic lunch. After we will hike a steep downhill towards the 
 Blue lake. We will again stop at blue lake to take photos and have water/sn
 ack stop.\nOur third stop will be the tiny Green Lake\, named after the col
 or of its waters. From Green lake we will continue to the old trail and at 
 some point we will turn towards our cars. The hike becomes a loop.\nWe will
  head back to our vehicles. Time/energy permitting we can stop at restauran
 t on the way. Return to Tbilisi. The end of the tour.\n \nInclusions:\n\n4
 WD Transfers\nSightseeing/hiking itinerary with an English-speaking guide\n
 \n \nExclusions:\n\nPersonal travel insurance\nFood\nGratitudes\n\n \n\nN
 ote:Please check Terms and Conditions for our cancellation and insurance po
 licy\n \n \n\nHOW TO PREPARE FOR THE TOUR\n\nMEETING TIME AND PLACEWe mee
 t at 8:00 at your hotel location.\nWEATHER\nGeorgian weather changes often 
 and fast. For this reason\, it's essential to follow the weather forecast c
 losely. Here is the weather forecast. Please check it the night before the 
 tour to be well prepared.\nWHAT TO WEAR\nPlease wear clothes appropriate to
  the weather. Make sure to wear proper hiking boots and bring walking poles
  if you have. have jacket. you can have spare shoes and leave them in the c
 ar.\nFOOD & DRINKSAlways make sure you have enough drinking water. 1.5-2 li
 ters should be enough for the day. Make sure to bring snacks – sandwiches
 \, dried fruit\, and sweets. They will help you maintain your energy level 
 throughout the hike.\nOTHER ESSENTIAL ITEMSIf you are prone to motion sickn
 ess\, please have medicine with you. Make sure to have sunglasses and suncr
 eam with you.\nGUIDE We will send you guide's contact details a few days b
 efore the tour. Please make sure to check your inbox and spam.
LOCATION:Roshka\, Georgia
DTSTAMP:20260423T150955Z
DTSTART:20260601T040000Z
DTEND:20330930T170000Z
END:VEVENT
END:VCALENDAR
