BEGIN:VCALENDAR
VERSION:2.0
PRODID:-//Eventin//Event Calendar//EN
CALSCALE:GREGORIAN
METHOD:PUBLISH
BEGIN:VEVENT
UID:e82a728fafe0c404839462be9469fc1f@wtgeorgia.com
SUMMARY:Private Khevsureti Overnight Tour (Shatili and Mutso) – June to O
 ctober
DESCRIPTION:Private adventure to the historical region of Khevsureti. Let
 ’s cross the sky-reaching Datvisjvari Pass\, medieval fortified villages\
 , powerful mountain streams\, and hidden valleys. The land of myths\, folk 
 tales\, and centuries-long history awaits us!\n \n\n\n\n\nDates: from June
  to OctoberDuration: 2 days / 1 nightDriving distance: 300 kmTrip difficult
 y: Easy BUT the trip includes two long off-road drives on a steep\, narrow 
 mountain road.Accommodation: shared twin/double rooms in a local guesthouse
 Hiking included: YESReaching Mutso Fortress requires a 20-30 minute-long up
 hill walk on a steep mountain path.\nPick-up: 9:00 from your hotelDrop-off:
  21:00 depends on group speed and trafficPrice: 450 GEL per person in case 
 of 5 participants. Please email us exact number of participants for exact p
 rice.\n \nItinerary:\nDay 1Tbilisi – Datvisjvari Pass – Shatili – An
 atori Burial Vaults\nWe will depart Tbilisi in the morning and head north t
 o Khevsureti. Around noon our vehicle will reach Datvisjvari Pass – a hig
 h mountain pass at an elevation of 2689 m.a.s.l. The views from the top are
  among the most scenic in Georgia. From Datvisjvari Pass\, we will descend 
 towards Shatili\, a historic highland village nested in the deep Arghuni Go
 rge. The settlement is a unique complex of fortified dwellings that served 
 as a residential area and a fortress guarding the northeastern outskirts of
  the country. Later\, we will continue to Anatori Burial Vaults – a fasci
 nating memorial of Khevsuretian culture and beliefs. Overnight in a guestho
 use.\nDay 2Mutso – Datvisjvari Pass – Tbilisi\nWe will start our day by
  exploring the historic village of Ardoti. Next\, we will head to Mutso\, a
 nother spectacular fortified settlement offering incredible history and vie
 ws. We will hike up the hill for about 20–30 min (elevation gain of 115m)
  to get to the fortress. The hike is steep and challenging if you are out o
 f shape\, but the views are worth it. Once we finish sightseeing Mutso\, we
  will start a picturesque drive back to Tbilisi. On the way\, if we have en
 ough time and energy\, we can book a rafting tour on the Aragvi river (opti
 onal). Return to Tbilisi in the evening. The end of Khevsureti overnight to
 ur.\n \nInclusions:\n\nTransfers (4WD)\nSightseeing/hiking itinerary with 
 an English-speaking guide\nAccommodation in shared twin/double rooms in a l
 ocal guesthouse (1 night)\nBreakfast on Day 2\nDinner on Day 1\nEntrance fe
 es as per itinerary\n\n \nExclusions:\n\nPersonal travel insurance\nLunch 
 on Day 1 and Day 2\nGratuities\nActivities mentioned in the itinerary as op
 tional\n\n\n\n\n \nNote:Please check Terms and Conditions for our cancella
 tion and insurance policy\n \n\nHOW TO PREPARE FOR THE TOUR\n\nMEETING TIM
 E AND PLACEWe meet 8:00 at Samaia Garden. Please be on time. In case of any
  delays\, please inform your guide. Otherwise\, the group will depart witho
 ut you.\nGUESTHOUSE: PLEASE NOT THE AREA IS NOT DEVELOPED YET. Guesthouses 
 are very basic. Please have your shampoo or toothbrush. \nWEATHERGeorgian 
 weather changes often and fast. For this reason\, it’s essential to follo
 w the weather forecast closely. Here is the weather forecast.Please check i
 t the night before the tour to be well prepared.\nWHAT TO WEARPlease wear c
 lothes appropriate to the weather. Bring layers. The days are warm in Khevs
 ureti but the evenings can get chilly. Long sleeves\, light jackets\, and l
 ong trousers (on top of shorts and t-shirts) may come in handy. Bring sun c
 ream\, hats\, and sunglasses to protect yourself from the sun. Wear walking
 /sports shoes for the hikes. Just in case\, you may also pack a raincoat.\n
 THE ROADThe road to Khevsureti is difficult. It’s long\, sometimes many h
 ours in the car. It may even get scary as it runs along a deep canyon. If y
 ou are prone to motion sickness\, bring the medicine and take it before the
  trip. We will be taking plenty of stops to take photos and to rest. If you
  need to stop\, let your guide know. The drivers will stop as soon as they 
 find a proper place for that.\nFOOD & DRINKSAlways make sure you have enoug
 h drinking water. 1.5–2 liters should be enough for the day. Please make 
 sure to bring snacks – sandwiches\, dried fruit\, and sweets for the road
 . They will help you maintain your energy between meals.Food included: Brea
 kfast on Day 2 and Dinner on Day 1 are included in the price of the tour. Y
 ou will eat them in your guesthouse. The price doesn’t cover lunches\, bu
 t you will have an opportunity to buy them locally.Please let us know if yo
 u have any allergies or food preferences well in advance. We will let you k
 now to what degree we can accommodate you. The food choice is limited in Kh
 evsureti\, so if you have some comfort food you can’t live without\, plea
 se bring it with you.\nMONEYBring CASH. There are no ATMs in Khevsureti\, a
 nd people don’t accept credit cards. Lunch usually costs 20–25 GEL per 
 person. You may also bring cash to spend on local souvenirs (20–50 gel).\
 nOTHER ESSENTIAL ITEMSIf you are prone to motion sickness\, please have med
 icine with you. Bring a daypack to carry important items with you. Khevsure
 ti is very remote\, so guesthouses are conserving electric energy\, which t
 hey make using solar panels. You will be able to charge cameras\, phones\, 
 and tablets. But leave hair dryers\, electric shaving machines\, and other 
 similar devices at home.\nGUIDE We will send you guide's contact details a
  few days before the tour. Please make sure to check your inbox and spam.
LOCATION:Khevsureti\, Georgia
DTSTAMP:20260423T151138Z
DTSTART:20260601T050000Z
DTEND:20351031T170000Z
END:VEVENT
END:VCALENDAR
