BEGIN:VCALENDAR
VERSION:2.0
PRODID:-//Eventin//Event Calendar//EN
CALSCALE:GREGORIAN
METHOD:PUBLISH
BEGIN:VEVENT
UID:753ede1b7e41a83010f2aa1def14072a@wtgeorgia.com
SUMMARY:Private Rtveli – Grape Harvest Day Tour – September and October
DESCRIPTION:This is private tour for you and group of your friends. Have yo
 u ever heard about Rtveli? It’s a traditional vintage and rural harvest h
 oliday in Georgia accompanied by feasts and celebrations. It usually takes 
 place from mid-September to mid-October. Join us on tour to help local wine
 makers pick up the grapes and to have some fun (with wine\, of course)!\n 
 \nDate: September to OctoberDuration: 1 dayDriving distance: Around 200-250
  kmTrip difficulty: EasyPick-up: 10:00\, Your hotel locationDrop-off: Aroun
 d 19:00Price: 220 GEL per person in case of group of 5. please email us exa
 ct number of travelers for exact price list.\n \nItinerary:\nWe will leave
  Tbilisi in the morning and head to a cozy family winery in Kakheti. Upon a
 rrival\, we will meet our host. We will then head to the vineyards to start
  collecting grapes. The work is hard – grapes must be collected\, and the
  juice must be squeezed out. In the past\, winemakers and their families us
 ed to do that by stomping on the grapes with bare feet. Nowadays\, machines
  are helping with processing the grapes. Once we are done with our work a t
 ime will come for the celebration with a a lovely homemade dinner made of t
 raditional local dishes. Masterclass of Making Georgian food. Return to Tbi
 lisi in the evening. The end of the tour.\n \nInclusions:\n\nTransfers\nEn
 glish-speaking guide\nParticipation in Rtveli\nHomemade meal\nWine tasting 
 and snacks\nMasterclasses of making Georgian food\n\n \nExclusions:\n\nPer
 sonal travel insurance\nGratitudes\n\n \n\nNote:Please check Terms and Con
 ditions for our cancellation and insurance policy\n \n\nHOW TO PREPARE FOR
  THE TOUR\n\nMEETING TIME AND PLACEWe meet 10:00 at your hotel location.\nW
 EATHER\nGeorgian weather changes often and fast. For this reason\, it’s e
 ssential to follow the weather forecast closely. Here is the weather foreca
 st. Please check it the night before the tour to be well prepared.\nWHAT TO
  WEAR\nPlease wear clothes appropriate to the weather. Wear comfortable sho
 es and outfit. You might get dirty in vineyard\, bring something to exchang
 e.\nFOOD & DRINKSAlways make sure you have enough drinking water. 1.5-2 lit
 ers should be enough for the day. or bring bottle and you can fill it later
 .\nOTHER ESSENTIAL ITEMSIf you are prone to motion sickness\, please have m
 edicine with you. Bring a day pack to carry important items with you. have 
 sun protection.\nGUIDE We will send you guide's contact details a few days
  before the tour. Please make sure to check your inbox and spam.
LOCATION:Kakheti\, Georgia
DTSTAMP:20260423T151137Z
DTSTART:20250901T060000Z
DTEND:20341031T150000Z
END:VEVENT
END:VCALENDAR
