BEGIN:VCALENDAR
VERSION:2.0
PRODID:-//Eventin//Event Calendar//EN
CALSCALE:GREGORIAN
METHOD:PUBLISH
BEGIN:VEVENT
UID:c84862136903784909b733080748d10f@wtgeorgia.com
SUMMARY:Private Racha Region 2 days tour - All Season
DESCRIPTION:This is a private tour to the Racha region\, where you will enj
 oy breathtaking mountain views\, fascinating historical landmarks\, and del
 icious local cuisine. Racha is especially stunning in autumn\, when the lan
 dscapes are painted with vibrant colors.\nTravel seasons: Whole yearDuratio
 n: 2 days/1 nightDriving distance: 600 kmTrip difficulty: Easy (but long dr
 ive)Accommodation: shared double/ twin / Single rooms in a local guesthouse
 \n \nPrice: Please let us know exact quantity to count accordingly.\n\n\n\
 n\n\nNo. of Travelers\nPrice per person GEL\n\n\n\n\n2\n1100\n\n\n3–5\n79
 5\n\n\n6–8\n595\n\n\n9+\n395\n\n\n\n \n\n\nItinerary:\nDay 1Tbilisi – 
 Tskhrajvari Mountain – Shaori Reservoir – Nikortsminda Cathedral – Sa
 kinule CaveEarly in the morning\, we will leave Tbilisi and head to Racha v
 ia Zestafoni. If the weather is good\, we will stop at Tskhrajvari Mountain
  to admire the views. From Tskhrajvari\, we will head to Shaori Reservoir\,
  one of the most beautiful lakes in Georgia\, located at an altitude of 110
 0 meters above sea level. Next\, we will continue to the 11th-century Nikor
 tsminda Cathedral\, famous for its spectacular frescoes. Time permitting\, 
 we will visit the Sakinule Cave. Later\, we will continue to our guesthouse
  to relax and enjoy a lovely evening.\nDay 2Oni – Utsera village – Shov
 i mountain resort – Sachkhere town – Modinakhe fortress – TbilisiAfte
 r breakfast\, we will head to Utsera and Shovi – two beautiful mountain r
 esorts surrounded by forests and snowcapped mountains. We will stop to admi
 re the landscape and peek into an abandoned house that\, according to urban
  legends\, was once Joseph Stalin’s summer residence. In the afternoon\, 
 we will drive back to Tbilisi via the town of Sachkhere\, stopping on the w
 ay to visit Modinakhe Fortress. Return to Tbilisi. The end of the tour.\n 
 \n\n\nInclusions:\n\nALL Transfers\nSightseeing/hiking itinerary with an En
 glish-speaking guide\nAccommodation in shared twin/double/Single rooms in a
  local guesthouse\nBreakfast and dinner\nEntrance fees as per itinerary\n\n
 \n \n\nExclusions:\n\nPersonal travel insurance\nMeals not mentioned in th
 e itinerary\nGratitudes\n\n\n \nNote:Please check Terms and Conditions for
  our cancellation and insurance policy\n 
LOCATION:Racha\, Georgia
DTSTAMP:20260423T151137Z
DTSTART:20250701T040000Z
DTEND:20311031T170000Z
END:VEVENT
END:VCALENDAR
