BEGIN:VCALENDAR
VERSION:2.0
PRODID:-//Eventin//Event Calendar//EN
CALSCALE:GREGORIAN
METHOD:PUBLISH
BEGIN:VEVENT
UID:8f2059383fd864413fef298307f8d5c1@wtgeorgia.com
SUMMARY:Private Tusheti 3 days Adventure - July to October
DESCRIPTION:This is a 3 days private tour to Tusheti – a remote paradise 
 of untouched nature with breathtaking views that you will never forget! It
 ’s the best place for hiking\, beautiful villages\, and Tushetian food!\n
  \n\nDOCUMENTS: PASSPORTS REQUIRED FOR FORTRESS VISITING.Dates: Anytime fr
 om July to October\n\nDuration: 3 days/2 nightsDriving distance: 450 kmTrip
  difficulty: Easy BUT the trip includes two VERY long off-road drives on a 
 steep\, narrow mountain road.Group size: Any sizeAccommodation: shared twin
 /double rooms in a local guesthousePick-up: 07:00 Your hotel locationPrice:
  780 GEL per person in case of 5 participants. Please email us exact number
  of people for exact price.\n \nHiking included: YESHike to Diklo fortress
  – 8 km (round-way)\, an altitude gain of 368 m.Hike from Dartlo to Kvavl
 o – 3 km (round-way)\, altitude gain of 320 m.Shorter walks around Omalo 
 and other villages.\n \nItinerary:\nDay 1Tbilisi – Gombori Pass – Lech
 uri – Abano Pass – Shenako - Diklo - Omalo\nWe will depart Tbilisi very
  early in the morning. Our drive will take us over Gombori Pass to the foot
 hills of the Great Caucasus. Once we reach the village of Lechuri\, we will
  turn off the asphalt road and follow an unpaved mountain route towards Aba
 no Pass – the highest driveable mountain pass in the Caucasus (2\,826 m.a
 .s.l.). Prepare for an EXTREMELY scenic yet DIFFICULT ride. It will take us
  a minimum of 3 hours to climb to the top of the pass and another 2 or 3 ho
 urs to reach our guesthouse. Upon arrival in Tusheti\, we will head to our 
 guesthouse in Omalo before exploring the area. e will visit the picturesque
  St. George Church in Shenako village and hike to the ruins of the Diklo Fo
 rtress. \n \nDay 2Dartlo - Kvavlo tower - Bochorda - Panorama\nToday\, We
  will explore fortified village of Dartlo\, hike to the remote Kvavlo\, and
  explore nearby settlements. You will have plenty of opportunities to enjoy
  the local cuisine. You can go on a horse ride (optional) in the afternoon 
 too. Goat Panorama – a scenic viewpoint from which lucky visitors might b
 e able to spot wild mountain goats. Next\, we will head to Bochorna – the
  highest settlement in Europe (2\,345 m.a.s.l.).\n \nDay 3Omalo – Abano 
 Pass – Lechuri – Tbilisi\nOur last day in Tusheti will we will head bac
 k toward Tbilisi. Short breaks at scenic spots will help us to ease the rid
 e. We will also stop to eat late lunch in a local restaurant. Return to Tbi
 lisi late in the evening. The end of the tour.\n \nInclusions:\n\nALL Tran
 sfers (4WD)\nSightseeing/hiking itinerary with an English-speaking guide wi
 th excellent knowledge of Tusheti\nAccommodation in shared twin/double room
 s in a local guesthouse (2 nights)\,\nBreakfast on Day 2 and Day 3\nDinner 
 on Day 1 and Day 2\nEntrance fees as per itinerary\n\n\n \n\nExclusions:\n
 \nPersonal travel insurance\nMeals not mentioned in the itinerary\nGratitud
 es\n\n\n \nNote:Please check Terms and Conditions for our cancellation and
  insurance policy\n \n\nHOW TO PREPARE FOR THE TOUR\n\nMEETING TIME AND PL
 ACEWe meet 07:00 at your hotel.\nDOCUMENTSPlease bring your valid PASSPORTS
  to access some areas. Please bring them with you to show them to the borde
 r guards.\nWEATHERGeorgian weather changes often. For this reason\, it’s 
 essential to follow the weather forecast closely. Here is the forecast link
 .  Please check it the night before the tour to be well prepared.\nWHAT TO
  WEARPlease wear clothes appropriate to the weather. Bring layers. The days
  are warm in Tusheti\, but the evenings get chilly. Additionally\, you will
  cross Abano Pass at an altitude of 2826 m a.s.l. It gets cold up there. Yo
 u will need touring shoes (or trail shoes/trekking shoes) may come in handy
 . Bring sun cream\, hats\, and sunglasses to protect from the sun. Wear com
 fortable walking/ sports shoes for the hikes. Just in case\, you may also p
 ack a raincoat.\nROAD TO TUSHETIIt’s long\, bumpy\, and requires many hou
 rs in the car. It may even get scary if it runs along a deep canyon. If you
  are prone to motion sickness\, bring the meds and take them 1h before the 
 ride. We will be taking plenty of stops to take photos and to rest. If you 
 need to stop\, let your guide know. We’ll stop as soon as they find a goo
 d place for that.\nFOOD & DRINKSAlways make sure to have enough drinking wa
 ter. 1.5-2 liters should be enough for Day 1. Also\, make sure to bring sna
 cks - sandwiches\, dried fruit\, and sweets for the road. They will help yo
 u maintain your energy levels. Amazing homemade Georgian cuisine is include
 d in the price of the tour. We will eat them in your guesthouse. The price 
 doesn’t cover lunches\, but you may order them locally. There are no supe
 rmarkets in Tusheti. We will be eating homemade Georgian cuisine. Please le
 t us know if you have food limitations well in advance. We will let you kno
 w to what degree we can accommodate you. The food choice is limited. If you
  are vegetarian\, you cannot go without\, please bring it with you.\nBRING 
 CASHThere are NO ATMs in Tusheti\, and people accept only cash. Local costs
  up to 25- 65 GEL per person. You may also want to spend on local souvenirs
  (20-50 gel) or an optional horse ride.\nOTHERDo not expect to have mobile 
 coverage everywhere. Due to motion sickness\, please avoid using your phone
 . Bring a day pack to carry important items with you. Be prepared that peop
 le are conserving electric energy\, which they mostly get from solar panels
 . You may experience issues with heaters\, phones\, and hot water\, as well
  as washing machines\, and other similar devices at home.\nGUIDE We will s
 end you guide's contact details a few days before the tour. Please make sur
 e to check your inbox and spam.
LOCATION:Tusheti\, Georgia
DTSTAMP:20260423T151035Z
DTSTART:20250701T030000Z
DTEND:20311031T170000Z
END:VEVENT
END:VCALENDAR
