BEGIN:VCALENDAR
VERSION:2.0
PRODID:-//Eventin//Event Calendar//EN
CALSCALE:GREGORIAN
METHOD:PUBLISH
BEGIN:VEVENT
UID:afebcaaffca586b3f64afd2035ae1293@wtgeorgia.com
SUMMARY:Armenia Lori Highlights Day Tour – 26 April
DESCRIPTION:Let’s explore Armenia’s Lori region. We will visit three sp
 ectacular monasteries\, including a UNESCO World Heritage Site. We will als
 o try local cuisine and enjoy nature. This tour requires PASSPORTS. Some of
  you may also need a visa. Please check the requirements online.\n \nDate:
  26 AprilDuration: 1 dayDriving distance: 250 kmTrip difficulty: EasyGroup 
 size: Min. 6 participantsPick-up: 08:00\, Samaia Garden\, TbilisiDrop-off: 
 Around 20:00 (The arrival time will depend on the traffic)Price: 140 GEL\n
  \nItinerary:\nIn the morning\, we will cross the Georgian-Armenian border
  and head to the famous\, UNESCO-protected Haghpat Monastery. Described as 
 a “masterpiece of religious architecture and a major center of learning i
 n the Middle Ages”\, Haghpat monastery\, together with Sanahin Monastery\
 , was placed in 1996 on UNESCO’s World Heritage List.\nOnce we finish sig
 htseeing in Haghpat we will stop for lunch in a local restaurant. Next\, we
  will head to the 10th-century Sanahin Monastery. The name Sanahin translat
 es as ‘this one is older than that one\,’ presumably representing a cla
 im to being an older monastery than the nearby Haghpat. The complex is home
  to numerous khachkars (stones with elaborate engravings representing a cro
 ss) and bishop gravesites.\nOur last stop for today will be Akhtala – a 1
 0th-century Armenian Apostolic monastery and fortress\, which played a majo
 r role in protecting the north-western regions of Armenia and is among the 
 most well-preserved in the country. The main church at the compound is famo
 us for its highly artistic frescoes. Return to Tbilisi in the evening. The 
 end of the tour.\n\n \n \n\nInclusions:\n\nTransfers\,\nSightseeing itine
 rary with an English-speaking guide.\n\n \nExclusions:\n\nPersonal travel 
 insurance\,\nMeals\,\nGratitudes.\n\n\n \n \nNote:Please check Terms and 
 Conditions for our cancellation and insurance policy\n \n \n\nHOW TO PREP
 ARE FOR THE TOUR\n\nMEETING TIME AND PLACEWe meet on 8:00 at Samaia Garden.
  Please be on time. In case of any delays\, please inform your guide. Other
 wise\, the group will depart without you.\nPASSPORTS & VISASDon't forget to
  bring your passports. Otherwise\, you will not be able to cross the border
 .Some nationalities require a visa to enter Armenia. You can check here if 
 you need one.It is your responsibility to obtain all necessary documents.\n
 WEATHER\nGeorgian weather changes often and fast. For this reason\, it’s 
 essential to follow the weather forecast closely. Here is the weather forec
 ast. Please check it the night before the tour to be well prepared.\n \nWH
 AT TO WEARPlease wear clothes appropriate to the weather. We recommend warm
  clothes and comfortable walking shoes.\nFOOD & DRINKSAlways make sure you 
 have enough drinking water. 1.5–2 liters should be enough for the day. Pl
 ease make sure to bring snacks – sandwiches\, dried fruit\, and sweets to
  eat during the tour. We will stop for lunch in a local restaurant\, where 
 you will be able to order a la carte.\nOTHER ESSENTIAL ITEMSIf you are pron
 e to motion sickness\, please have medicine with you. If the day is rainy\,
  make sure to bring a raincoat or an umbrella.\nGUIDE We will send you gui
 de's contact details a few days before the tour. Please make sure to check 
 your inbox and spam.
LOCATION:Lori\, Armenia
DTSTAMP:20260424T203448Z
DTSTART:20260426T040000Z
DTEND:20260426T160000Z
END:VEVENT
END:VCALENDAR
