BEGIN:VCALENDAR
VERSION:2.0
PRODID:-//Eventin//Event Calendar//EN
CALSCALE:GREGORIAN
METHOD:PUBLISH
BEGIN:VEVENT
UID:d46759a7ddf8379fabcbcb7ea91f453d@wtgeorgia.com
SUMMARY:Lomisa Church Day Hike – 30 may
DESCRIPTION:For those looking for a hike\, we have a one-day trail to the m
 edieval Lomisa Church perched at about 2\,400 m.a.s.l. Mountain views are w
 aiting for us!\nDate: 30 MayDuration: 1 dayDriving distance: 220 kmTrip dif
 ficulty: ModerateGroup size: Min. 5Pick-up: 9:00\, Samaia Garden\, TbilisiD
 rop-off: Around 20:00 (The arrival time will depend on the group’s speed 
 and traffic)Price: 95 GEL\n\nTrail parameters:\nDifficulty: Easy to Moderat
 e depending on your fitness level.Distance: 8 km total (A to A trail)Min. e
 levation: 1503 m.a.s.l.Max. elevation: 2453 m.a.s.l.Total ascent: 950 mAppr
 oximate hiking time: 5–6 hrs.Trail description: The hike follows a pilgri
 mage road. The trail’s most challenging aspect is a significant elevation
  gain. Trail is mostly open under the sun. we use walking poles to help asc
 ending or descending. It’s a great hike for intermediate hikers.\n \n\nI
 tinerary:\nWe will leave Tbilisi in the morning and head north on the Georg
 ian Military Road. Our journey will take us to Aragvi River Valley\, where 
 we will stop in the small village called Mleta. From Mleta\, we will hike u
 phill to Lomisa church – a medieval Christian shrine dedicated to Saint G
 eorge. Lomisa is the principal shrine for the highland province of Mtiuleti
  and neighboring communities. On our hike\, we will follow the pilgrims’ 
 route. Views from the trail are stunning. Time permitting\, after the hike\
 , we will visit a local restaurant for early dinner. Return to Tbilisi. The
  end of the tour.\n\n \n\nInclusions:\n\nTransfers\,\nSightseeing/hiking i
 tinerary with an English-speaking guide.\n\n \n \nExclusions:\n\nPersonal
  travel insurance\,\nMeals\,\nGratitudes.\n\n\n \n \n \nNote:Please chec
 k Terms and Conditions for our cancellation and insurance policy\n \n \n\
 nHOW TO PREPARE FOR THE TOUR\n\nMEETING TIME AND PLACEWe meet at 9:00 at Sa
 maia Garden. Please be on time. In case of any delays\, please inform your 
 guide. Otherwise\, the group will depart without you.\nWHAT TO WEARPlease w
 ear clothes appropriate to the weather. In winter\, the trail is usually co
 vered with a layer of snow. In such a case\, you will need waterproof hikin
 g boots and trousers\, gaiters\, and walking poles. In summer it’s hot. I
 t will be more comfy if you take extra shoes and change before/after hike.\
 nFOOD & DRINKSAlways make sure you have enough drinking water. 1.5–2 lite
 rs should be enough for the day. Please make sure to bring snacks – sandw
 iches\, dried fruit\, sweets. They will help you maintain your energy durin
 g the hike.\nOTHER ESSENTIAL ITEMSIf you are prone to motion sickness\, ple
 ase have medicine with you. Bring a day pack to carry important items with 
 you.\nGUIDE We will send you guide’s contact details a few days before t
 he tour. Please make sure to check your inbox and spam.
LOCATION:Lomisa\, Georgia
DTSTAMP:20260423T132952Z
DTSTART:20260530T050000Z
DTEND:20260530T160000Z
END:VEVENT
END:VCALENDAR
