BEGIN:VCALENDAR
VERSION:2.0
PRODID:-//Eventin//Event Calendar//EN
CALSCALE:GREGORIAN
METHOD:PUBLISH
BEGIN:VEVENT
UID:956ee23d43546fd1868ff40477fc9e60@wtgeorgia.com
SUMMARY:Ninoskhevi Waterfall Lagodekhi National Park day hike – 25 Apr
DESCRIPTION:Join us on a Ninoshkevi Waterfall Hike in Lagodekhi Protected A
 rea. This time our trail will lead us along a forested path\, over the cold
  streams\, and up to a spectacular waterfall. A perfect adventure for a wee
 kend!\nDate: 25 AprilDuration: 1 dayDriving distance: 320 kmTrip difficulty
 : ModerateGroup size: Min. 5 participantsPick-up: 08:00\, Samai Garden\, Tb
 ilisiDrop-off: Tour will depart right after the hike. Please note that our 
 operating hours are until 7 PM.Price: 110 GEL\n\nTrail parameters:\n\nDiffi
 culty: Moderate\nDistance: 16 km\nMin. elevation: 577 m.a.s.l. (starting po
 int)\nMax. elevation: 979 m.a.s.l.\nTotal elevation gain: 584 m\nApproximat
 e hiking time: 4-5 hrs.\nTrail description: The path leads through a thick 
 old forest. Most of the route is uphill. Depending on the bridge situation 
 we might need to cross one river stream.\n\n \n\nItinerary:\nEarly in the 
 morning\, we will leave Tbilisi and drive to Lagodekhi Protected Area – t
 he oldest nature reserve in Georgia. Our objective for today will be to rea
 ch the 40-m-high Ninoshkevi Waterfall. Our hiking trail will follow an uphi
 ll forest trail. Upon reaching the waterfall\, we will have time to relax a
 nd have a picnic lunch. Please make sure you have your own lunch ready\, we
  will not have time for restaurant stop. Return same way back. Sometimes wo
 oden bridge is damaged and we have to cross the river stream which is usual
 ly not difficult. Please have your own lunch\, we are not going to stop for
  restaurant. Return to Tbilisi.\n \nInclusions:\n\nTransfers\nSightseeing/
 hiking itinerary with an English-speaking guide\n\n \n\n\nExclusions:\n\nP
 ersonal travel insurance\nMeals\nGratuities\n\n\n \nNote:Please check Term
 s and Conditions for our cancellation and insurance policy\n \n \n\nHOW T
 O PREPARE FOR THE TOUR\n\nMEETING TIME AND PLACEWe meet 8:00 at Samaia Gard
 en. Please be on time. In case of any delays\, please inform your guide. Ot
 herwise\, the group will depart without you.\nWEATHER\nGeorgian weather cha
 nges often and fast. For this reason\, it’s essential to follow the weath
 er forecast closely. Here is the weather forecast. Please check it the nigh
 t before the tour to be well prepared.\nWHAT TO WEARPlease wear clothes app
 ropriate to the weather. Make sure to bring hiking boots. You may also take
  with you walking poles. bring other shoes and spare clothes to leave in th
 e car.\n\nFOOD & DRINKSAlways make sure you have enough drinking water. 1.5
 -2 liters should be enough for the day. Make sure to bring snacks – sandw
 iches\, dried fruit\, and sweets for a picnic lunch. we are not going to st
 op at the restaurant.\n\nOTHER ESSENTIAL ITEMSIf you are prone to motion si
 ckness\, please take medicine with you. Bring a day pack to carry small ite
 ms with you.\nGUIDE \nWe will send you guide's contact details a few days 
 before the tour. Please make sure to check your inbox and spam.
LOCATION:Lagodekhi\, Georgia
DTSTAMP:20260423T132951Z
DTSTART:20260425T040000Z
DTEND:20260425T150000Z
END:VEVENT
END:VCALENDAR
