BEGIN:VCALENDAR
VERSION:2.0
PRODID:-//Eventin//Event Calendar//EN
CALSCALE:GREGORIAN
METHOD:PUBLISH
BEGIN:VEVENT
UID:a6029d884acdd2f78869eed906c4cc8f@wtgeorgia.com
SUMMARY:Private Tbilisi Jewish Heritage City Tour
DESCRIPTION:Private Tbilisi Jewish Heritage City Tour. Over the past years\
 , the only people who’ve had a specific interest in Jewish Heritage Tours
  were briefly visiting tourists of Jewish origin. But we would like to chan
 ge that and introduce this interesting subject to a broader range of people
 . During our 4-hour-long walk we will explore a number of sites connected t
 o the Tbilisi Jewish community. We will visit the Great Synagogue\, stroll 
 Bethlemi Street\, peek into the house of David Baazov\, take a metro ride t
 o Navtlugi Jewish Cemetary\, and more.\n \nDate: AnytimeDuration: 3-4 hrsS
 tart: Meidan SquareEnd: Freedom SquareCost: 120 Gel per person in case of 5
  participants. Please email us exact number of people for exact price.\n \
 n\nInclusions:\n\nSightseeing itinerary with an English-speaking guide spec
 ializing in the topic\nEntrance fee to the David Baazov Museum of History o
 f Jews of Georgia\n\n\n \n\n \n\n \nNote:Please check Terms and Conditio
 ns for our cancellation and insurance policy\n \n 
LOCATION:Tbilisi\, Georgia
DTSTAMP:20260423T151010Z
DTSTART:20250701T050000Z
DTEND:20311031T170000Z
END:VEVENT
END:VCALENDAR
