BEGIN:VCALENDAR
VERSION:2.0
PRODID:-//Eventin//Event Calendar//EN
CALSCALE:GREGORIAN
METHOD:PUBLISH
BEGIN:VEVENT
UID:d0f063e40341160c947be84c49c2e945@wtgeorgia.com
SUMMARY:Private Vashlovani National Park 3 days - Anytime except Summer
DESCRIPTION:Private tour to Visit Vashlovani National Park to experience th
 e magical landscape of this Georgian Savannah. Large part of the tour inclu
 des off-road drive. It’s a perfect trip for real adventurers.\nTravel sea
 sons: All except summer.Duration: 3 days/2 nightsDriving distance: 650 kmTr
 ip difficulty: Easy (includes long off-road drives)Accommodation: Local gue
 sthouse in Dedoplistskaro\nPrice:\n\n\n\n\n\nNo. of Travelers\nPrice per pe
 rson GEL\n\n\n\n\n2\n1450\n\n\n3-5\n1050\n\n\n6-9\n895\n\n\n9+\n795\n\n\n\n
  \n\n\n\nItinerary:\nDay 1Tbilisi – Dedoplistskaro – Takhti – Tepa M
 ud Volcanoes – Dedoplistskaro\nWe will leave Tbilisi early in the morning
  and drive to the Vashlovani National Park. Once we reach the park\, we wil
 l register at the local rangers’ post and head to explore Takhti – Tepa
  Mud Volcanoes. To add more fun\, we will have a picnic lunch in Vashlovani
 . Bring your favorite snack! In the evening\, we will head to Dedoplitskaro
  to spend the night at a lovely family-owned guesthouse. Time permitting\, 
 we will stop to visit St. Elia Mountain offering lovely view of the area. D
 inner and an overnight stay in the the guesthouse.\n\nDay 2Datviskhevi – 
 Pantishara – Mijniskure\nAfter breakfast we will explore Vashlovani hidde
 n gems – Datviskhevi and Pantishara Gorge\, and the stunning cliffs of Mi
 jniskure. Here you’ll find narrow canyons and jagged peaks\, barren plate
 aus\, forested mountains\, and a snaking river forming the border with Azer
 baijan. Return to Dedoplistskaro for dinner and an overnight stay.\nDay 3De
 doplistkaro – Sighnaghi – Tbilisi\nAfter breakfast\, we will head to Si
 ghnaghi\, a lovely town with a Tuscan-like feeling. Upon arrival\, we will 
 visit the charming Bodbe Monastery\, stroll the town’s historical rampart
 s and enjoy a delicious lunch in a local restaurant. Return to Tbilisi. The
  end of the trip.\n \n \n\nInclusions:\n\n4WD transfers\nEnglish-speaking
  driver/guide\nAccommodation based on shared twin/ double rooms in a guesth
 ouse(Single supplement depend on rooms availability)\nDinner on Days 1\, 2\
 nBreakfast on Days 2\, 3\nEntrance fees as per itinerary\nPermissions\n\n 
 \nExclusions:\n\nMeals not mentioned\ntravel insurance\ntips\n\n \nNote:Pl
 ease check Terms and Conditions for our cancellation and insurance policy\n
  
LOCATION:Vashlovani\, Georgia
DTSTAMP:20260423T151011Z
DTSTART:20251001T050000Z
DTEND:20350531T170000Z
END:VEVENT
END:VCALENDAR
