BEGIN:VCALENDAR
VERSION:2.0
PRODID:-//Eventin//Event Calendar//EN
CALSCALE:GREGORIAN
METHOD:PUBLISH
BEGIN:VEVENT
UID:6ae746ba290b2250c6fbcd4fdb76795b@wtgeorgia.com
SUMMARY:Udziro Lake Backpacking Racha Region – from July to October
DESCRIPTION:Private adventure to Udzrlo Lake\, perched deep in Racha region
 . Pack your tent and sleeping bag and get ready for stunning views. The tre
 k is perfect for advanced hikers looking for a thrilling trail.\nDate: Anyt
 ime from July yo OctoberDuration: 3 days/2 NightDriving distance: 650 kmTri
 p difficulty: HardGroup size: Any sizeAccommodation: Shared twin/triple roo
 ms in a local basic guesthouse on Day 1. tents on Day 2If you don’t own a
  tent\, we can assist you with the rental!\nEquipment needed: a sleeping ba
 g\, a sleeping pad\, a tent\, hiking poles\, hiking boots\, raincoat\, a ba
 ckpack.Pick-up: 9:00 Your hotel locationPrice: 795 GEL per person in case o
 f 5 participants.Please let us know your exact quantity for exact price.\n
  \n\nTrail parameters:\nDifficulty: HardDistance: 19 km – A to B LOOPMin
 . elevation: 1338 m.a.s.l.Max. elevation: 3075 m.a.s.l.Total elevation gain
 : 1863 mTotal elevation loss: 1730 mWater sources: Streams\, Udzrlo Lake\, 
 tap or spring water in villages at the beginning and the end of the trailRi
 ver crossings: 1\n \nTrail description:The trek is long\, with a large ele
 vation gain. The section is particularly challenging before the Katitsvera 
 Pass\, from which you descend towards Udzrlo Lake. Descent is initially ste
 ep\, then gradually eases. Even in mid-July\, parts of this section can be 
 covered with snowfields. The area around Udzrlo Lake is relatively flat and
  good for camping. From Udzrlo\, the trail navigates through alpine meadows
  and rhododendron fields. In summer\, the grass here is very high. Make sur
 e to wear long trousers. The trail crosses a mountain stream\, enters a for
 est here\, and continues downhill until the Glola village.\n\n \nDay 1Tbil
 isi – Racha new road – Ambrolauri\nWe will leave Tbilisi in the morning
  and head to the Racha region. On the way\, we will stop to admire views of
  Shkmeri road. On this day we will stay in Ambrolauri or in Shovi depending
  on availability of accommodation. Dinner\, Overnight.\n\nDay 2Shovi – Ka
 titsvera pass – Camp\nAfter breakfast we will prepare our equipment and l
 unch boxes and head to the starting point of our trail. The first several h
 ours we will spend hiking in the forest. Later on\, the trail will shift to
  meadows and a river valley. Finally\, we will reach Katitsvera Pass and ta
 ke a longer break before crossing it. Once we cross the pass\, we will see 
 Udziro Lake from afar. The trail here gets a bit easier. Upon reaching Udzi
 ro Lake\, we will have time to rest and relax before finding the best place
  to camp. Overnight in tents.Hiking details: 10.8 km\, ↑1816 m\, ↓464 m
 \n\nDay 3Udziro Lake – Glola village – Tbilisi\nAfter breakfast\, we wi
 ll start hiking downhill. The trail will take us downhill through beautiful
  alpine meadows and rhododendron fields. Once we cross the Chibisru stream\
 , we will follow a forested path leading to Glola village. In Glola\, we wi
 ll meet our vehicles and head back to Tbilisi. Return to Tbilisi. The end o
 f the tour.Hiking details: 8.9 km\, ↑272 m\, ↓1753 m\n \n\nInclusions:
 \n\nTransfers\,\nEnglish speaking hiking guide\nEntrance fees if required\n
 Guesthouse with dinner\, breakfast\, lunch boxes.\n\n \nExclusions:\n\nPer
 sonal travel insurance\,\nMeals not mentioned\nGratitudes.\n\n\n\n \n\n \
 nNote:Please check Terms and Conditions for our cancellation and insurance 
 policy\n \n \n\nHOW TO PREPARE FOR THE TOUR\n\n \nWEATHER\nGeorgian weat
 her changes often and fast. For this reason\, it’s essential to follow th
 e weather forecast closely. Here is the weather forecast. Please check it t
 he night before the tour to be well prepared.\nWHAT TO WEARPlease wear clot
 hes appropriate to the weather. Hiking boots and walking poles are a must. 
 Bring one set of warm clothes and one very light summer outfit. Good rainco
 ats\, rain covers for backpacks\, and another pair of shoes or sandals to w
 ear in the evenings are a must. You must bring a large\, 50–70-liter back
 pack and fit all your belongings inside and carry with you.\n\nFOOD & DRINK
 SOn the first day of the tour\, we will stop at a local market to buy food 
 supplies for the trek. We will also get some snacks for the long drive. Din
 ner we will have in a guesthouse. On the second day\, we will eat breakfast
  in the guesthouse. We will make our dinner using the ingredients we bought
  at the market.On Day 3\, we will make breakfast on our own. After finishin
 g the hike\, we may stop at a local restaurant for another meal.Always make
  sure you have enough drinking water. 1.5–2 liters should be enough for t
 he day. We will be refilling our bottles with water from streams and spring
 s and tap water in villages/guesthouses.\n\nEQUIPMENT & OTHER ESSENTIAL ITE
 MSIf you are prone to motion sickness\, please have medicine with you.As fo
 r the equipment\, you will need hiking poles\, a good tent\, a sleeping bag
 \, a sleeping pad\, a headlight (torch)\, a raincoat\, forks/knives/spoons/
 cups\, a small pot\, sunscreen\, and everything that protects you from the 
 sun. We also recommend carrying a personal first aid kit\, hygiene items\, 
 and water bottles.If you lack any of those items\, we can help you with ren
 ting it.MAKE YOUR BACKPACK AS LIGHT AS POSSIBLE.\nGUIDE \nWe will send you
  guide's contact details a few days before the tour. Please make sure to ch
 eck your inbox and spam.
LOCATION:Racha\, Georgia
DTSTAMP:20260424T190908Z
DTSTART:20250701T050000Z
DTEND:20311031T170000Z
END:VEVENT
END:VCALENDAR
