BEGIN:VCALENDAR
VERSION:2.0
PRODID:-//Eventin//Event Calendar//EN
CALSCALE:GREGORIAN
METHOD:PUBLISH
BEGIN:VEVENT
UID:3c71c07e195f2976aa106bebd92a4bc3@wtgeorgia.com
SUMMARY:Juta to Roshka via Chaukhi pass trekking - from July to October
DESCRIPTION:Private challenging overnight trek over Chaukhi Pass. We will c
 ross from the scenic Juta Valley to the stunningly colorful Abudelauri Lake
 s. Only for Intermediate or advanced hikers!\nDates: Anytime from July to O
 ctoberDuration: 2 days/1 nightDriving distance: 270 kmTrip difficulty: Medi
 um to Hard\; the elevation gain/loss is significant\, and the terrain is ch
 allenging.Accommodation: Twin or Triple shared rooms in a guesthouse in Jut
 aGroup size: Any sizePick-up: 9:00 your hotel locationPrice: 495 gel per pe
 rson in case of 5 participants. please email us exact number of people for
  exact price.\n\n \n\nTrail parameters:\nDifficulty: Hard. Medium for adva
 nced hikers.Distance: 17.8 km – A to BMin. elevation: 1970 m.a.s.l.Max. e
 levation: 3341 m.a.s.l.Total elevation gain: 1283 mTotal elevation loss: 13
 60 mWater sources: Streams\, tap or spring water in Juta and Roshka village
 River crossings: 1 river crossing\nTrail description: The trek is long\, wi
 th a steady elevation gain from Juta towards Chaukhi Pass and a steep desce
 nt towards Abudelauri Lakes. Crossing the pass is the most challenging sect
 ion\; the trail over the pass is covered with gravel and small stones movin
 g under hikers’ feet. The last 400 meters before the pass are a steep uph
 ill followed by a relatively flat section on the pass and a long steep down
 hill towards Abudelauri Lakes. Other sections are much gentler\, covered wi
 th grass and sand.\n \n\nItinerary:\nDay 1Tbilisi – Juta – Acclimatiza
 tion overnightWe will depart Tbilisi in the afternoon and drive to Juta vil
 lage (approximately three hour drive). We will follow the famous Georgian M
 ilitary Highway\, stopping on the way to admire its highlights – Zhinvali
  Reservoir\, Ananuri castle\, and Gudauri panorama. Upon arrival in Juta\, 
 we will check into our guesthouse head to explore the hidden corners of the
  area. Dinner and overnight in Juta.\n \n\nDay 2Juta – Chaukhi – Chauk
 hi Pass – Roshka – TbilisiAfter breakfast We will start our hike early 
 in the morning. The initial stage of the trail will be relatively easy\, wi
 th a gradual but moderate incline. Our first stop will be near Tina Lake at
  the foot of Mount Chaukhi. After a short break\, we will proceed towards C
 haukhi Pass – the most challenging part of our trek due to altitude incre
 ase. After crossing the pass\, we will start descending to Roshka Village. 
 This section of the hike is long and follows a narrow path covered with gra
 vel. we will find Abudelauri blue and green lakes on the way and have short
  breaks. In Roshka\, we will meet our drivers. Return to Tbilisi in the eve
 ning. The end of the tour.\n \n \n \n\nInclusions:\n\nTransfers\,\nEngli
 sh speaking hiking guide\nEntrance fees if required\nGuesthouse in Juta wit
 h dinner\, Breakfast and lunch boxes.\n\n \nExclusions:\n\nPersonal travel
  insurance\,\nMeals for the road\nGratitudes.\n\n\n\n \n\n \nNote:Please 
 check Terms and Conditions for our cancellation and insurance policy\n \n
  \n\nHOW TO PREPARE FOR THE TOUR\n\n \nWEATHER\nGeorgian weather changes 
 often and fast. For this reason\, it’s essential to follow the weather fo
 recast closely. Here is the weather forecast. Please check it the night bef
 ore the tour to be well prepared.\nWHAT TO WEARPlease wear clothes appropri
 ate to the weather. Hiking boots and walking poles are a must. Bring one se
 t of warm clothes and one very light summer outfit. Good raincoats\, rain c
 overs for backpacks\, and shoes or sandals to wear during river crossing ar
 e recommended.Bring two backpacks – one big with most of your luggage and
  one small day pack. The big backpack will stay in the car on Day 2\, while
  you will hike with a smaller bag.\nFOOD & DRINKSOn the first day of the to
 ur\, we will stop at a local market to buy food supplies for the trek. We w
 ill also get some snacks for the long drive. Dinner we will have in a guest
 house.On the second day\, we will eat breakfast in the guesthouse and take 
 our lunch boxes with us to eat on the trail.Time permitting\, we may also s
 top for dinner in a local restaurant on the way back from Roshka to Tbilisi
 .Always make sure you have enough drinking water. 1.5–2 liters should be 
 enough for the day. We will be refilling our bottles with water from stream
 s and springs\, and tap water in villages/guesthouses.\nEQUIPMENT & OTHER E
 SSENTIAL ITEMSIf you are prone to motion sickness\, please have medicine wi
 th you.As for the equipment\, you will need hiking poles\, and good hiking 
 boots. We also recommend carrying a personal first aid kit\, and water bott
 les. MAKE YOUR DAY PACK AS LIGHT AS POSSIBLE.\nGUIDE \nWe will send you gu
 ide's contact details a few days before the tour. Please make sure to check
  your inbox and spam.
LOCATION:Juta\, Georgia
DTSTAMP:20260424T191256Z
DTSTART:20250701T050000Z
DTEND:20311031T170000Z
END:VEVENT
END:VCALENDAR
