BEGIN:VCALENDAR
VERSION:2.0
PRODID:-//Eventin//Event Calendar//EN
CALSCALE:GREGORIAN
METHOD:PUBLISH
BEGIN:VEVENT
UID:0c06eb134425d4d515ee61b8cb18f0fe@wtgeorgia.com
SUMMARY:Tbilisi to Gudauri ski resort transfers
DESCRIPTION:Private Transfer: Tbilisi hotel or Airport ↔ Gudauri\nEnjoy a
  safe and comfortable journey between Tbilisi hotel or Airport and Gudauri 
 with our private transfer service.\n✅ Experienced\, professional drivers
 ✅ 7-8 Seated Minivan equipped with Ski rack✅ 4WD vehicles equipped with
  winter tires✅ Child seat available upon request\n\nSeason: Winter / Ski 
 SeasonAvailability: Any date upon requestVehicle Type: 4WD Minivan (Mitsubi
 shi Delica) or Mercedes Vito Minivan Capacity: Up to 6 passengers for 4 wd
  car and 7-8 passengers for minivan.Note: This is a one-way transfer\; retu
 rn trip not included.\n\n💰 Total Price per Vehicle: 350 GEL\n\n\n \n\n
  \nNote:Please check Terms and Conditions for our cancellation and insuran
 ce policy\n 
LOCATION:Gudauri\, Georgia
DTSTAMP:20260423T150956Z
DTSTART:20251201T060000Z
DTEND:20340331T150000Z
END:VEVENT
END:VCALENDAR
