BEGIN:VCALENDAR
VERSION:2.0
PRODID:-//Eventin//Event Calendar//EN
CALSCALE:GREGORIAN
METHOD:PUBLISH
BEGIN:VEVENT
UID:a099d077ceb4796aa1a0d771938dea7b@wtgeorgia.com
SUMMARY:Private Sabaduri frozen forest Winter day tour – From December to
  February
DESCRIPTION:This is your private tour to visit Sabaduri frozen forest! Let
 ’s check if there is any snow on Sabaduri Pass! We will visit Sabaduri fo
 rest for spectacular winter views\, feed bears in a local sanctuary with so
 me snacks\, and make sure local homeless dogs don’t spend the day with em
 pty stomachs.\nDate: Anytime from December to FebruaryDuration: 1 dayDrivin
 g distance: 100 kmPick-up: 10-11 Am your hotel locationPrice Per person:5 P
 ersons - 95 Gel 3 Persons - 160 gel2 Persons - 230Please email us exact nu
 mber of participants for exact tour price.\n \nItinerary:\nWe will depart 
 Tbilisi and head to Sabaduri Forest. On the way\, we will stop to feed home
 less dogs\; many people abandon them in the area. We will also visit a zool
 ogical center\, which provides shelter for bears once captured and abused b
 y humans. Next\, we will continue to Sabaduri Forest to enjoy the spectacul
 ar winter views. We will take photos\, make picnic in the forest. On the wa
 y back we will stop at a cozy local cafe for late lunch.\n \nInclusions:\n
 \nTransfers\,\nEnglish speaking driver/guide\,\nDog food for everyone\,\nZo
 ological center entrance fee.\n\n \nExclusions:\n\nPersonal travel insuran
 ce\,\nMeals\,\nGratitudes.\n\n\n\n \n\n \nNote:Please check Terms and Con
 ditions for our cancellation and insurance policy\n \n \n\nHOW TO PREPARE
  FOR THE TOUR\n\n \nWEATHER\nGeorgian weather changes often and fast. For 
 this reason\, it’s essential to follow the weather forecast closely. Here
  is the weather forecast. Please check it the night before the tour to be w
 ell prepared.\nWHAT TO WEAR\nIt will be COLD!Please wear clothes appropriat
 e to the weather - hats\, scarves\, gloves\, warm underwear\, winter jacket
 s\, and shoes.\n \nFOOD & DRINKSAlways make sure you have enough drinking 
 water. 1.5–2 liters should be enough for the day. Bring some snacks too\,
  in case you get hungry before we stop at the restaurant.\nBEARS & DOGSThe 
 bear center usually has some animal food you can buy for a small amount of 
 cash. Last time\, it was chicken meat. But you can also bring some bear-fri
 endly snacks with you. They appreciate apples\, carrots\, pieces of pumpkin
 \, or even fish.For dog lovers - the center takes care of a big group of do
 gs. But more importantly\, there are strays staying at the side of the road
  we will follow. Get some dog food\, and we will stop to feed them too.\nOT
 HER ESSENTIAL ITEMSIf you are prone to motion sickness\, please have medici
 ne with you. Bring a day pack to carry small items with you.Bring some cash
 \, just in case.\nGUIDE We will send you guide's contact details a few day
 s before the tour. Please make sure to check your inbox and spam.
LOCATION:Sabaduri\, Georgia
DTSTAMP:20260423T150956Z
DTSTART:20251201T060000Z
DTEND:20340228T150000Z
END:VEVENT
END:VCALENDAR
