BEGIN:VCALENDAR
VERSION:2.0
PRODID:-//Eventin//Event Calendar//EN
CALSCALE:GREGORIAN
METHOD:PUBLISH
BEGIN:VEVENT
UID:52a9b53da6d622c840e265bded4ea87d@wtgeorgia.com
SUMMARY:Mount Ararat 5137m Climbing Expedition from Tbilisi –  July to Se
 ptember
DESCRIPTION:Mount Ararat Climbing Expedition\nPrivate Mount Ararat Expediti
 on – A 7-day adventure for experienced trekkers\, combining challenging c
 limbs\, stunning views\, and cultural discoveries\, all with expert guides 
 and full support.\n \nDates: anytime from July to SeptemberDuration: 6 day
 s / 5 nights (+1 backup day)Driving distance: 1050 kmTrip difficulty: Mount
 aineering – Moderate | Trekking – Hard\n \nOverview\nMount Ararat\, st
 anding at 5\,137 m\, is the highest peak in Türkiye. While not technically
  difficult\, its biggest challenge is the altitude. The route is suitable f
 or fit hikers experienced in trekking on rough\, sometimes rocky terrain fo
 r 8–9 hours a day.\nSummit day is approximately a 10-hour round trip\, wi
 th snow on the last few hundred meters\, requiring crampons. No advanced mo
 untaineering gear is needed beyond that. Travelers should have trekking\, c
 amping\, and backpacking experience\, and be in good physical condition.\n
  \nKey Information\n\nGroup size: Any size. price will change accordingly
  \nAccommodation:\n\nNights 1 & 5: Shared twin/double hotel rooms in Dogub
 eyazit (2 nights total).\nOther nights: Camping in tents.\n\n\nPick-up: fro
 m your hotel\nPassport required. Some participants may need a visa — chec
 k Visa Information for Foreigners. we dont provide visas.\n\n \n\nPrice: 
 5 persons: 995 dollars per personplease send us inquiry of exact people qua
 ntity and we will count prices accordingly. \n\n \n\nItinerary\nDay 1 —
  Tbilisi → Georgia–Turkey Border → Dogubayazit\n\n\nDepart Tbilisi in
  the morning.\n\n\nCross the border near Kartsakhi Lake.\n\n\nContinue to D
 ogubayazit (approx. 500 km)\, with stops to rest and enjoy the views.\n\n\n
 Time to buy local Turkish SIM cards.\n\n\nHotel check-in and dinner with yo
 ur local guides.\n\n\nOvernight: Dogubayazit hotel (twin/double rooms).\n\n
 \n \n\nDay 2 — Dogubayazit → First Base Camp\n\n\nBreakfast at hotel.\
 n\n\nTransfer to Mount Ararat trekking start point.\n\n\nLoad luggage onto 
 pack horses and hike with personal backpacks.\n\n\nTrek up to 3\,200 m (Fir
 st Base Camp) — approx. 4–5 hrs.\n\n\nSet up tents and enjoy dinner.\n\
 n\nOvernight: Camping at First Base Camp.\n\n\n \nDay 3 — First Base Cam
 p → Second Base Camp\n\n\nTrek to 4\,200 m (Second Base Camp) — approx.
  3–4 hrs.\n\n\nAfternoon free to relax\, adjust equipment\, and practice 
 walking with crampons.\n\n\nPrepare for summit day.\n\n\nOvernight: Camping
  at Second Base Camp.\n\n\n\nDay 4 — Summit Day\n\n\nEarly light breakfas
 t.\n\n\nDeparture time decided based on weather conditions.\n\n\nClimb dura
 tion: 7–8 hrs (may vary depending on group fitness).\n\n\nFinal section i
 nvolves crossing an ice field and using crampons.\n\n\nReach the summit of 
 Mount Ararat (5\,037 m) around noon.\n\n\nDescend to camp for dinner and re
 st.\n\n\nOvernight: Camping at Second Base Camp.\n\n\n\nDay 5 — Second Ba
 se Camp → Dogubayazit\n\n\nBreakfast and pack-up.\n\n\nDescend all day to
  Dogubayazit — clear downhill path.\n\n\nTransfer to hotel for hot shower
 s and rest.\n\n\nOvernight: Dogubayazit hotel (twin/double rooms).\n\n\n\nD
 ay 6 — Dogubayazit → Tbilisi\n\n\nBreakfast at hotel.\n\n\nDrive back t
 o Georgia with stops to enjoy nature and views.\n\n\nArrival in Tbilisi in 
 the evening.\n\n\nEnd of tour.\n\n\n\nDay 7 — Backup Day\n\n\nReserved fo
 r use in case of bad weather or unforeseen circumstances.\n\n\n\nInclusions
 \n\nALL Transfers.\nServices of professional mountaineering instructors and
  guides.\nAccommodation:\n\n2 nights in Dogubayazit hotel (twin/double shar
 ed rooms).\nCamping during trek.\n\n\nDinner in the city on Day 1.\nBreakfa
 sts in the hotel.\nCook and 3 meals per day during the trek.\nPorter servic
 e.\nEquipment (tents\, sleeping mats\, sleeping bags\, crampons).\nClimbing
  permit.\n\n \n\nNot Included\n\nTravel / health insurance.\nGratitudes.\n
 Personal expenses.\n\n \nEssential Equipment\nMake sure you bring the foll
 owing items for the Mount Ararat climb:\n\nMountaineering / Trekking Boots
  \nGloves – warm\, preferably waterproof.\nSunglasses – with UV protec
 tion.\nHeadlamp – with spare batteries.\nTrekking Poles \nMountaineering
  Jacket / Ski Jacket – insulated and windproof.\nWaterproof Trousers / Sk
 i Trousers + Leggings – for layering.\nThermal Sweater – fleece or wool
 .\nThermal Socks – multiple pairs.\nBalaclava Mask or Scarf – to protec
 t your throat and face.\nGaiters (optional) – for snow or debris.\nSunscr
 een – high SPF.\nTwo Backpacks – one large (for horses) and one small d
 aypack for yourself.\nPersonal First Aid Kit – including any personal med
 ications.\n\n \nNote:Please check Terms and Conditions for our cancellati
 on and insurance policy\n 
LOCATION:Dogubeyazit\, Turkey
DTSTAMP:20260423T151034Z
DTSTART:20250701T060000Z
DTEND:20290930T160000Z
END:VEVENT
END:VCALENDAR
