BEGIN:VCALENDAR
VERSION:2.0
PRODID:-//Eventin//Event Calendar//EN
CALSCALE:GREGORIAN
METHOD:PUBLISH
BEGIN:VEVENT
UID:dbff0b48a7ab9d0d7300ac6246e9ff9d@wtgeorgia.com
SUMMARY:test
DESCRIPTION:
LOCATION:Online
DTSTAMP:20260423T151117Z
DTSTART:20270904T200500Z
DTEND:20270904T201000Z
END:VEVENT
END:VCALENDAR
