BEGIN:VCALENDAR
VERSION:2.0
PRODID:-//Eventin//Event Calendar//EN
CALSCALE:GREGORIAN
METHOD:PUBLISH
BEGIN:VEVENT
UID:2749d2c81381e55aa04c29b09ab62c7f@wtgeorgia.com
SUMMARY:Top Day tours from Tbilisi\, Georgia
DESCRIPTION:Here are private day tour options from Tbilisi for travelers wh
 o have just arrived and want to explore Georgia’s top destinations. These
  tours offer a great way to experience the country’s history\, nature\, a
 nd culture in one day.\n1. Highlights of the Caucasus Mountains\nMain Stops
 \n\n\nKazbegi National Park – Enjoy dramatic mountain landscapes along th
 e famous Georgian Military Road.\n\n\nAnanuri Fortress Complex & Jinvali Re
 servoir – Visit the medieval fortress with its beautiful location overloo
 king the turquoise waters of Jinvali Reservoir.\n\n\nGudauri Panorama – S
 top for breathtaking views over the Caucasus mountains.\n\n\nGveleti Waterf
 all Hike (optional) – A short but rewarding 3 km (2 hrs) easy hike to a 2
 5-meter-high waterfall. Minimum elevation 1432 m\, maximum 1721 m. May be s
 kipped due to weather or guest readiness.\n\n\nStepantsminda Town – A cha
 rming mountain town at the base of Kazbegi.\n\n\nGergeti Trinity Church –
  This iconic 14th-century church sits at 2170 m\, high above the Chkheri Ri
 ver. Its isolated position and panoramic views have made it a true symbol o
 f Georgia.\n\n\nLocal Restaurant Visit – Savor traditional Georgian flavo
 rs before returning to Tbilisi.\n\n\n \n \n \n\n2. Tasty Kakheti Wine Re
 gion\nMain Stops\n\n\nTraditional Shoti Bread Baking – Visit a local bake
 ry and learn how to make this beloved Georgian bread.\n\n\nBodbe Monastery 
 – An important pilgrimage site set among beautiful landscapes.\n\n\nSighn
 aghi – The “City of Love” – A charming hilltop town with 18th–19t
 h century architecture\, cobblestone streets\, and stunning views of the Al
 azani Valley. Walk along the old city wall and browse local souvenirs.\n\n\
 nWinery Visit – Tour the cellar\, taste a variety of Georgian wines\, and
  learn about the ancient qvevri winemaking tradition.\n\n\nDinner & Wine Ta
 sting – Enjoy a delicious Georgian meal paired with local wines before he
 ading back to Tbilisi.\n\n\n \n\n3. Green Borjomi City\, Uplistsikhe Cave 
 Town & Old Capital Mtskheta\nMain Stops\n\n\nJvari Monastery – Perched hi
 gh above the confluence of two rivers\, offering spectacular views of Mtskh
 eta and the surrounding landscapes.\n\n\nBorjomi Green Park & Mineral Water
 s – Stroll through historical streets to Borjomi Central Park\, famous fo
 r its mineral-rich springs. Enjoy the open-air sulfur baths (approx. 30–3
 2°C) or take a cable car for panoramic views.\n\n\nLocal Restaurant Stop 
 – Pause for a delicious Georgian lunch.\n\n\nUplistsikhe Cave Town – A 
 fascinating ancient rock-hewn settlement that was a major pagan center befo
 re the arrival of Christianity in Georgia in the 4th century.\n\n\nReturn t
 o Tbilisi – Evening arrival.\n\n\n\n4. Summer Rafting Adventure on the Ar
 agvi River\nMain Stops\n\n\nPshavi Mountain Region – Scenic northern land
 scapes en route to the rafting site.\n\n\nRafting Camp & Rope Park – Meet
  professional instructors for safety briefings and paddling techniques.\n\n
 \nRafting on the Aragvi River – A 10 km course (easy level)\, perfect for
  beginners yet exciting enough for adventure lovers. Expect to get wet – 
 a change of clothes and sandals/shoes is essential.\n\n\nPost-Rafting Relax
 ation – Freshen up\, enjoy lunch\, and have fun at the rope park before h
 eading back.\n\n\nReturn to Tbilisi – Evening arrival.\n\n\n \n \n5. Tb
 ilisi City Tour\nMain Stops\n\n\nOld Town – Explore Tbilisi’s charming 
 historical streets and landmarks.\n\n\nCable Car to Narikala Fortress – E
 njoy panoramic views on the way to this iconic 4th-century fortress.\n\n\nB
 ridge of Love\, Waterfall & Meidan Bazar Tunnel – Stroll through some of 
 the city’s most photogenic spots.\n\n\nGorgasali Monument & Mother of Geo
 rgia – Iconic monuments telling the story of the capital.\n\n\nRike Park 
 & Bridge of Peace – Modern architectural gems.\n\n\nMtatsminda Park – L
 ocated atop Mtatsminda Mountain\, offering attractions like carousels\, wat
 er slides\, roller coasters\, a funicular\, and a giant Ferris wheel\, all 
 with spectacular city views.\n\n\n\n6. Tbilisi Soviet Bunker Tour\nMain Sto
 ps\n\n\nAbandoned Soviet Bunker – One-hour guided tour of an underground 
 Cold War-era bunker.\n\n\nCold War History & Technology – Learn how the S
 oviet Union prepared for nuclear and other threats\, including the role of 
 over 450 bunkers beneath Tbilisi. Discover how these facilities were heated
 \, supplied with water\, and used for communication between cities.\n\n\nRa
 diation Protection Systems – See the original equipment used to detect an
 d shield against radiation.\n\n\n\n7. Imereti Region – Chiatura & Katskhi
  Pillar Road Tour\nMain Stops\n\n\nModinakhe Fortress – A reconstructed m
 edieval fortress overlooking Sachkhere.\n\n\nMghvimevi Cave Monastery – A
  medieval rock-hewn monastery with stunning views.\n\n\nChiatura City – E
 xplore this mining town and take a cable car to the ruins of the former Pio
 neer Palace.\n\n\nKatskhi Pillar – An awe-inspiring 40-meter-high limesto
 ne monolith crowned with a tiny hermitage. While climbing is prohibited\, t
 he view of the church atop the pillar is one of Georgia’s most iconic sig
 hts.\n\n\nReturn to Tbilisi – Evening arrival.\n\n\n \n \n8. Tsalka –
  Dashbashi Canyon and Asureti German Village\nMain Stops\n\n\nTsalka City &
  Diamond Glass Bridge – Walk across the spectacular 240-meter-long glass 
 bridge spanning Dashbashi Canyon.\n\n\nDashbashi Canyon Waterfalls – A sc
 enic 3 km round-trip walk (with many stairs) to see the cascading waterfall
 s within the canyon.\n\n\nAsureti (Old Elisabethal) German Settlement – A
  19th-century village founded by German settlers\, still preserving its ori
 ginal architecture. Explore cobblestone streets\, visit the local cemetery\
 , and enjoy dining at the historic Bahnhof Station restaurant.\n\n\n \n \
 n \nPrices of one tour:in case of 7 persons - 35 dollar per personin case 
 of 5 persons - 50 dollar per personin case of 3 persons - 70 dollar per per
 son \n \nNote: Please contact us with the exact number of adults and chil
 dren traveling so we can provide the final price.\n \n \n\nInclusions:\n\
 nComfortable car with English-speaking driver – Private vehicle for your 
 group.\n\n \n \nNote:Please check Terms and Conditions for our cancellat
 ion and insurance policy\n 
LOCATION:Georgia
DTSTAMP:20260423T151010Z
DTSTART:20250812T060000Z
DTEND:20280812T160000Z
END:VEVENT
END:VCALENDAR
