BEGIN:VCALENDAR
VERSION:2.0
PRODID:-//Eventin//Event Calendar//EN
CALSCALE:GREGORIAN
METHOD:PUBLISH
BEGIN:VEVENT
UID:dd59834bf13171cfc6477316332087aa@wtgeorgia.com
SUMMARY:4 Nights / 5 Days tour package  – Highlights Georgia
DESCRIPTION:This itinerary is designed for travelers with limited time in G
 eorgia who want to experience the country’s highlight destinations.Day 1 
 ArrivalPick up from the Airport – Our driver will greet you at the airpor
 t and assist with your luggage.Transfer to the Hotel – Enjoy a comfortabl
 e ride to your hotel in Tbilisi.Check-in – Settle into your room and rest
  after your journey.Overnight – Tbilisi\n \n\nDay 2 Tbilisi/Mtskheta Tou
 rJvari Monastery – A 6th-century UNESCO site with panoramic views of the 
 confluence of two rivers.Svetitskhoveli Cathedral – One of Georgia’s mo
 st sacred churches\, known for its stunning architecture.Mtskheta – Souve
 nir Market – Browse local crafts\, wine\, and handmade gifts.Chronicles o
 f Georgia – Monumental pillars depicting the history of Georgia and its k
 ings.Bridge of Peace – A modern glass pedestrian bridge over the Kura Riv
 er.Metekhi Church – A historic church perched above the river with scenic
  city views.Rike Park – A relaxing urban park perfect for a short stroll.
 Sharden Street – Charming cobblestone street with cafes and shops.Narikal
 a Fortress (by Cable Car) – Ancient fortress offering sweeping views over
  Tbilisi.Statue of Mother Georgia – Iconic monument symbolizing Georgian 
 hospitality and strength.Abanotubani (Sulphur-Bath District) – Historic a
 rea famous for its natural hot springs.Overnight – Tbilisi\n \n\nDay 3 G
 udauri/Kazbegi TourJhinvali Water Reservoir – Turquoise blue lake surroun
 ded by lush hills.Ananuri Fortress – Medieval castle complex overlooking 
 the reservoir.Georgian Military Road – Scenic mountain road with breathta
 king landscapes.Black and White Aragvi River – A unique meeting point of 
 two differently colored rivers.Panorama Gudauri – Viewing platform with s
 tunning mountain views.Gudauri Ski Resort – Popular alpine resort offerin
 g year-round mountain activities.Mineral Waters – Refreshing natural spri
 ngs along the route.Stepantsminda City – Gateway town to the Greater Cauc
 asus Mountains.Gergeti Holy Trinity Church 4wd drive – Iconic church set 
 against the backdrop of Mount Kazbek.Overnight – Tbilisi\n \nDay 4 Kakhe
 ti TourKTW Winery – Enjoy a guided wine tasting of Georgia’s famous Kak
 hetian wines.Bodbe Monastery – Visit the serene monastery\, a sacred site
  linked to St. Nino.Sighnaghi City – Explore the charming “City of Love
 ” with its colorful houses and cobblestone streets.Wall of Sighnaghi Walk
  – Stroll along the historic defensive walls with panoramic valley views.
 Return to Tbilisi – Drive back to the capital in the evening.\n \nDay 5 
 DeparturePick up from the Hotel – Our driver will meet you at your hotel 
 lobby.Transfer to the Airport – Enjoy a comfortable ride to Tbilisi Inter
 national Airport.Departure – Fly home or to your next destination.\n \n\
 nPrices:6 and more travelers – $130 per person5 travelers – $160 per pe
 rson2 travelers – $380 per person\n \nNote: Please contact us with the e
 xact number of adults and children traveling so we can provide the final pr
 ice.\n \n \n\nInclusions:\n\nAirport Transfers – Comfortable and timely
  pick-up/drop-off.\nSim Card – Local SIM card for communication and inter
 net.\nEntrance Fees – Admission tickets for listed attractions.\nComforta
 ble car with English-speaking driver – Private vehicle for your group.\n\
 n \nExclusions:\n\nMeals – Food and drinks not included.\nInsurance – 
 Travel and medical insurance not provided.\nAccommodation – Hotel stay no
 t included.\nAnything not mentioned in the itinerary – Personal expenses 
 or additional services.\n\n \n \nNote:Please check Terms and Conditions 
 for our cancellation and insurance policy\n 
LOCATION:Georgia
DTSTAMP:20260423T151122Z
DTSTART:20250812T060000Z
DTEND:20280812T160000Z
END:VEVENT
END:VCALENDAR
