BEGIN:VCALENDAR
VERSION:2.0
PRODID:-//Eventin//Event Calendar//EN
CALSCALE:GREGORIAN
METHOD:PUBLISH
BEGIN:VEVENT
UID:a66a189dff852ec7a877400b2c9a44d2@wtgeorgia.com
SUMMARY:3 Nights / 4 Days tour package  – Must See Georgia
DESCRIPTION:This itinerary is designed for travelers with limited time in G
 eorgia who want to experience the country’s must-see destinations.Day 1 A
 rrivalPick up from the Airport – Our driver will greet you at the airport
  and assist with your luggage.Transfer to the Hotel – Enjoy a comfortable
  ride to your hotel in Tbilisi.Check-in – Settle into your room and rest 
 after your journey.Overnight – Tbilisi\n\nDay 2 Tbilisi/Mtskheta TourJvar
 i Monastery – A 6th-century UNESCO site with panoramic views of the confl
 uence of two rivers.Svetitskhoveli Cathedral – One of Georgia’s most sa
 cred churches\, known for its stunning architecture.Mtskheta – Souvenir M
 arket – Browse local crafts\, wine\, and handmade gifts.Chronicles of Geo
 rgia – Monumental pillars depicting the history of Georgia and its kings.
 Bridge of Peace – A modern glass pedestrian bridge over the Kura River.Me
 tekhi Church – A historic church perched above the river with scenic city
  views.Rike Park – A relaxing urban park perfect for a short stroll.Shard
 en Street – Charming cobblestone street with cafes and shops.Narikala For
 tress (by Cable Car) – Ancient fortress offering sweeping views over Tbil
 isi.Statue of Mother Georgia – Iconic monument symbolizing Georgian hospi
 tality and strength.Abanotubani (Sulphur-Bath District) – Historic area f
 amous for its natural hot springs.Overnight – Tbilisi\n\nDay 3 Gudauri/Ka
 zbegi TourJhinvali Water Reservoir – Turquoise blue lake surrounded by lu
 sh hills.Ananuri Fortress – Medieval castle complex overlooking the reser
 voir.Georgian Military Road – Scenic mountain road with breathtaking land
 scapes.Black and White Aragvi River – A unique meeting point of two diffe
 rently colored rivers.Panorama Gudauri – Viewing platform with stunning m
 ountain views.Gudauri Ski Resort – Popular alpine resort offering year-ro
 und mountain activities.Mineral Waters – Refreshing natural springs along
  the route.Stepantsminda City – Gateway town to the Greater Caucasus Moun
 tains.Gergeti Holy Trinity Church 4wd drive – Iconic church set against t
 he backdrop of Mount Kazbek.Overnight – Tbilisi\n \nDay 4 DeparturePick 
 up from the Hotel – Our driver will meet you at your hotel lobby.Transfer
  to the Airport – Enjoy a comfortable ride to Tbilisi International Airpo
 rt.Departure – Fly home or to your next destination.\n\nPrices:6 and more
  travelers – $100 per person5 travelers – $130 per person2 travelers 
 – $280 per person\n \nNote: Please contact us with the exact number of a
 dults and children traveling so we can provide the final price.\n \n \n\n
 Inclusions:\n\nAirport Transfers – Comfortable and timely pick-up/drop-of
 f.\nSim Card – Local SIM card for communication and internet.\nEntrance F
 ees – Admission tickets for listed attractions.\nComfortable car with Eng
 lish-speaking driver – Private vehicle for your group.\n\n \nExclusions:
 \n\nMeals – Food and drinks not included.\nInsurance – Travel and medic
 al insurance not provided.\nAccommodation – Hotel stay not included.\nAny
 thing not mentioned in the itinerary – Personal expenses or additional se
 rvices.\n\n \n \nNote:Please check Terms and Conditions for our cancella
 tion and insurance policy\n 
LOCATION:Georgia
DTSTAMP:20260423T151122Z
DTSTART:20250812T060000Z
DTEND:20280812T160000Z
END:VEVENT
END:VCALENDAR
