BEGIN:VCALENDAR
VERSION:2.0
PRODID:-//Eventin//Event Calendar//EN
CALSCALE:GREGORIAN
METHOD:PUBLISH
BEGIN:VEVENT
UID:7ddf65523148d05dc963c0e2f8bcd344@wtgeorgia.com
SUMMARY:Via Ferrata Georgia at Sveri – 24 May
DESCRIPTION:Join us to explore fantastic climbing opportunities with a one-
 day tour to Sveri Adventure Camp\, where we will try Via Ferrata Georgia. A
 dventure awaits us!  \nDate: 24 MayDuration: 1 dayDriving distance: 370 k
 mTrip difficulty: easy to medium\; a certain level of fitness is required f
 or all the activities. If you find trails such as Bateti Lake\, Turtle Lake
  to Mtatsminda\, or Birtvisi Canyon challenging\, this trip is not for you.
  1 hr hiking around the campPick-up: 9:00\, Samaia Garden\, TbilisiDrop-off
 : Around 20:00 (The arrival time will depend on the traffic and sightseeing
  speed)Price: 195 GELGuides / Location: Sveri Adventure Camp run by two exp
 erienced rock climbers and instructors of the Adventure Tourism School.\n 
 \nItinerary:\nEarly in the morning\, we will leave Tbilisi and head to Sver
 i Adventure Camp in Imereti to try Via Ferrata Georgia.At Sveri\, we will m
 eet our guides\, who will assess our skill and fitness level and provide us
  with the essential equipment and instructions. After a short break for a c
 up of coffee\, we will start climbing the Via Ferrata or the “Iron Path
 ” – a protected climbing route which we will use to slowly climb up to 
 the mountain and reach a local unexplored cave located at its top. Usually 
 climbers spend around 2 hours climbing Via Ferrata Georgia. Once we finish 
 our “Iron Path”\, we will go back to camp and enjoy our picnic. We will
  walk down to the river for refreshing! Return to Tbilisi in the evening. T
 he end of the tour.\n\n \n\nInclusions:\n\nTransfers\,\nGear\,\nGuides.\n\
 nExclusions:\n\nPersonal travel insurance\,\nMeals\,\nGratitudes.\n\n\n\n 
 \n\nNote:Please check Terms and Conditions for our cancellation and insuran
 ce policy\n \n \n\nHOW TO PREPARE FOR THE TOUR\n\nMEETING TIME AND PLACEW
 e meet 9:00 at Samaia Garden. Please be on time. In case of any delays\, pl
 ease inform your guide. Otherwise\, the group will depart without you.\nWEA
 THER\nGeorgian weather changes often and fast. For this reason\, it’s ess
 ential to follow the weather forecast closely. Here is the weather forecast
 . Please check it the night before the tour to be well prepared.\nWHAT TO W
 EAR\nPlease wear clothes appropriate to the weather. Wear comfortable cloth
 es and sports shoes or hiking boots. We also recommend a little backpack or
  jacket/trousers with zip-lock pockets for your phone.\nFOOD & DRINKSAlways
  make sure you have enough drinking water. 1.5–2 liters should be enough 
 for the day. Bring snacks and lunch.\nOTHER ESSENTIAL ITEMSIf you are prone
  to motion sickness\, please have medicine with you. Bring a day pack to ca
 rry important items with you. Have sunscreen.\nGUIDE We will send you guid
 e's contact details a few days before the tour. Please make sure to check y
 our inbox and spam.
LOCATION:Sveri\, Chiatura
DTSTAMP:20260423T133130Z
DTSTART:20260524T050000Z
DTEND:20260524T160000Z
END:VEVENT
END:VCALENDAR
