BEGIN:VCALENDAR
VERSION:2.0
PRODID:-//Eventin//Event Calendar//EN
CALSCALE:GREGORIAN
METHOD:PUBLISH
BEGIN:VEVENT
UID:469c619024c155c6f5915ade3d98b047@wtgeorgia.com
SUMMARY:Private Pankisi Valley for Juli – 24 and 26 April
DESCRIPTION: Pankisi Valley & Gori Tour\nDates: 24–26 AprilGroup: 4 adul
 ts\n\nPrice Breakdown (in GEL)\n\n\n\n\n\nItem\nAmount\n\n\n\n\nTbilisi →
  Pankisi transfer\n450\n\n\nAccommodation (2 nights\, with breakfast & dinn
 er)\n1\,280\n\n\nPankisi → Gori transfer\n550\n\n\nSubtotal\n2\,280\n\n\n
 + Service fee (5%)\n114\n\n\nTotal\n2\,394 GEL\n\n\n\n\n\nDeposit: 20% non-
 refundable payment → 479 GEL\n \n\n✅ Included in the Tour\n\n\nTransfe
 rs with English-speaking driver\n\n\nTwo nights at Leila’s Guesthouse two
  twin rooms (breakfast & dinner included)\n\n\n \n\n📅 Tour Plan\n24 Apr
 il\n08:00 – Meet your driver at Marcos Hotel (Tbilisi).\n\n\nDrive to Pan
 kisi Valley (stops for supermarket and Gombori Pass – enjoy the views and
  a short break).\n\n\nCheck in at Leila’s Guesthouse and leave your lugga
 ge.\n\n\nVisit the mosque for the Zikr ceremony (starts at 12:00 – Friday
 s).\n\n\n🧕 Dress code:\n\n\nPlease bring a scarf to cover your head.\n\n
 \nAvoid shorts\, yoga pants\, or open tops.\n\n\n\n26 April\n\n\nPick-up fr
 om Leila’s Guesthouse (confirm time\; between 10:00–11:00 AM is fine?).
 \n\n\nTransfer to Gori – hotel on Zhiuli Shartava Street.\n\n\nStops alon
 g the way for meals and short breaks.\n\n\n \n📍 Map: Route to Gori Hote
 l\n\n \nHow to Prepare\nWeather\nGeorgia’s weather changes quickly — c
 heck the forecast the night before your trip.  https://www.yr.no/en/foreca
 st/daily-table/2-614853/Georgia/Kakheti/Duisi\nClothing\nDress modestly\, e
 specially when visiting the Muslim community in Pankisi.\n\n\nWomen: No sho
 rts\, yoga pants\, or revealing tops.\n\n\nMen: No shorts or sleeveless shi
 rts.\n\n\nWear weather-appropriate layers.\n\n\nFood & Drinks\n\n\nPankisi 
 has small family cafés and supermarkets.\n\n\nCarry cash\, as card payment
 s may not always be available.\n\n\nOther Essentials\n\n\nMedicine for moti
 on sickness (if needed)\n\n\nDay pack for personal items\n\n\nSun protectio
 n (hat\, sunglasses\, sunscreen)\n\n\nGuide Contact\n\n\nYou’ll receive y
 our guide’s contact details a few days before the tour.\n\n\nPlease check
  your inbox and spam folder for the message.
LOCATION:Pankisi\, Georgia
DTSTAMP:20260424T145108Z
DTSTART:20260424T040000Z
DTEND:20260426T160000Z
END:VEVENT
END:VCALENDAR
