BEGIN:VCALENDAR
VERSION:2.0
PRODID:-//Eventin//Event Calendar//EN
CALSCALE:GREGORIAN
METHOD:PUBLISH
BEGIN:VEVENT
UID:4ab24a8f7692763534c9c8c52d429cf3@wtgeorgia.com
SUMMARY:David Gareja &amp\; Hike Rainbow Hills Day Tour – 23 May
DESCRIPTION:Join us on an unforgettable day tour to David Gareja Monastery 
 Complex and Georgian semi-desert! Let’s hike together around the Mravalts
 karo Reservoir and admire the stunning rainbow hills surrounding it. We wil
 l also peak into the Natlismtsemeli Monastery.\nDate: 23 MayDuration: 1 day
 Driving distance: 190 kmTrip difficulty: Easy BUT includes off-road drives.
 Group size: Min. 5 participantsPick-up: 09:00\, Samaia Garden\, TbilisiDrop
 -off: Around 18:00 (The arrival time will depend on the group’s sightseei
 ng speed and traffic)Price: 120 GELHiking included: YES – We will walk a 
 short distance on the “Rainbow” hills. There is no clear walking path\,
  and the terrain consists of sand and gravel. We recommend wearing proper h
 iking shoes to avoid slipping.\n\n \n\nItinerary:\nWe will leave Tbilisi e
 arly in the morning and head to Mravaltskaro Reservoir. Mravaltskaro is fam
 ed for the colorful\, rainbow-like hills surrounding it. We will also visit
  Natlismtsemeli Monastery. The complex was originally established at the en
 d of the 7th century. Nowadays\, it’s one of the main pilgrimage sites in
  the region.\nFinally\, we will reach David Lavra – the main section of D
 avid Gareja Monastery Complex\, founded in the 6th century (Please be aware
  that the monastery is partly on the territory of Azerbaijan. Some parts ar
 e unavailable for sightseeing). Time and weather permitting\, we will also 
 stroll across the “Rainbow Hills” surrounding the shrine.\nWe will fini
 sh our trip with a dinner in a local guesthouse in Udabno. The meal is NOT 
 included in the price of the tour. You can order it a la carte. Return to T
 bilisi. The end of the tour.\n\n \n \n\nInclusions:\n\nTransfers\nSightse
 eing/hiking itinerary with an English-speaking guide\n\n \nExclusions:\n\n
 Meals\nPersonal travel insurance\nGratuities\n\n \n\nNote:Please check Ter
 ms and Conditions for our cancellation and insurance policy\n \n \n\nHOW 
 TO PREPARE FOR THE TOUR\n\nMEETING TIME AND PLACEWe meet 9:00 at Samaia Gar
 den. Please be on time. In case of any delays\, please inform your guide. O
 therwise\, the group will depart without you.\nWEATHER\nGeorgian weather ch
 anges often and fast. For this reason\, it’s essential to follow the weat
 her forecast closely. Here is the weather forecast. Please check it the nig
 ht before the tour to be well prepared.\nWHAT TO WEAR\nPlease wear clothes 
 appropriate to the weather.Hiking boots or sports shoes with a good grip ar
 e recommended.\nGeorgian customs require a strict dress code in monasteries
 . Women are obliged to cover their heads and legs. We recommend bringing on
 e or two scarves for that purpose. Otherwise\, you will have to wear commun
 al clothes. Men must wear long trousers.\nIt can be muddy at rainbow hills.
  Having extra shoes are comfortable. Bring raincoats.\nFOOD & DRINKSAlways 
 make sure you have enough drinking water. 1.5 liter should be enough for on
 e day.Please bring snacks. We may stop for dinner on the way back to Tbilis
 i if we have time.\nOTHER ESSENTIAL ITEMSIf you are prone to motion sicknes
 s\, please have medicine with you.Bring a daypack to carry your items. It
 ’s better to take a plane pillow for a nap during the ride.If the weather
  forecast is sunny\, bring sunscreen and sunglasses.\nGUIDE We will send y
 ou guide's contact details a few days before the tour. Please make sure to 
 check your inbox and spam.
LOCATION:David Gareja\, Georgia
DTSTAMP:20260423T133139Z
DTSTART:20260523T050000Z
DTEND:20260523T140000Z
END:VEVENT
END:VCALENDAR
