BEGIN:VCALENDAR
VERSION:2.0
PRODID:-//Eventin//Event Calendar//EN
CALSCALE:GREGORIAN
METHOD:PUBLISH
BEGIN:VEVENT
UID:09783c7898fb04617fc6583aac9db1d8@wtgeorgia.com
SUMMARY:Chiatura &amp\; Katskhi Pillar Day Tour – 31 May
DESCRIPTION:Join us on a Chiatura & Katskhi Pillar road trip. We will explo
 re a medieval cave monastery\, enjoy a cable car ride across Chiatura\, tak
 e a closer look at the Georgian version of Meteora and so much more.\n \nD
 ate: 31 MayDuration: 1 dayDriving distance: 385 kmTrip difficulty: Easy BUT
  it includes long drivesGroup size: Min. 6 participantsPick-up: 09:00\, Sam
 aia Garden\, TbilisiDrop-off: Around 19:00 (The arrival time will depend on
  the traffic)Price: 110 GEL\n\n \n\nItinerary:\nWe will leave Tbilisi in t
 he morning and head to the Imereti region. will drive to the mining town of
  Chiatura\, where we will stop at the medieval Mghvimevi Monastery and take
  a cable car ride to the ruins of the former Pioneer Palace. We will also t
 ake a look at the old cable car station.\nFinally\, we will visit the fasci
 nating impressive 40-meter-high Katskhi Pillar\, with a tiny hermitage buil
 t on top of it. While climbing to the top of the pillar is forbidden for se
 cular people\, the view of the church is one of the most iconic in Georgia.
  Please have your own lunch\, we are not going to stop at restaurant. Retur
 n to Tbilisi in the evening. The end of the tour.\n \nInclusions:\n\nTrans
 fers\,\nSightseeing itinerary with an English-speaking guide\,\nCable car t
 ickets.\n\n \nExclusions:\n\nMeals\nPersonal travel insurance\nGratuities\
 n\n \n\nNote:Please check Terms and Conditions for our cancellation and in
 surance policy\n \n \n\nHOW TO PREPARE FOR THE TOUR\n\nMEETING TIME AND P
 LACEWe meet 9:00 at Samaia Garden. Please be on time. In case of any delays
 \, please inform your guide. Otherwise\, the group will depart without you.
 \nWEATHER\nGeorgian weather changes often and fast. For this reason\, it’
 s essential to follow the weather forecast closely. Here is the weather for
 ecast. Please check it the night before the tour to be well prepared.\nWHAT
  TO WEAR\nPlease wear clothes appropriate to the weather. Since we will be 
 walking a lot\, we recommend wearing comfortable sports shoes.\nFOOD & DRIN
 KSAlways make sure you have enough drinking water. 1.5–2 liters should be
  enough for the day. We will stop at the supermarket to buy some snacks. Pl
 ease have your own lunch\, we are not going to stop at restaurant.\nOTHER E
 SSENTIAL ITEMSIf you are prone to motion sickness\, please have medicine wi
 th you. Bring a day pack to carry important items with you.\nGUIDE We will
  send you guide's contact details a few days before the tour. Please make s
 ure to check your inbox and spam.
LOCATION:Chiatura\, Georgia
DTSTAMP:20260423T133108Z
DTSTART:20260531T050000Z
DTEND:20260531T150000Z
END:VEVENT
END:VCALENDAR
