BEGIN:VCALENDAR
VERSION:2.0
PRODID:-//Eventin//Event Calendar//EN
CALSCALE:GREGORIAN
METHOD:PUBLISH
BEGIN:VEVENT
UID:f75b4aa52dbfc4609b7806c98b2b5de9@wtgeorgia.com
SUMMARY:Kazbegi Day Tour – 16 May 2026
DESCRIPTION:Join our Kazbegi Day Tour to explore Georgia’s most famous tr
 avel destination. We will take you on an adventurous ride along the Georgia
 n Military Road\; visit Gudauri Panorma. hike to the 30-meter-high Gveleti 
 Waterfall\, and catch a glimpse of Mount Kazbegi from the Gergeti Holy Trin
 ity Church.\nDates: 6 May 2026Duration: 1 dayDriving distance: 300 kmTrip d
 ifficulty: Easy (includes long drives)Group size: Min. 5 participantsPick-u
 p: 08:00\, Samaia Garden\, TbilisiDrop-off: Around 21:00 (The arrival time 
 will depend on the traffic)Price: 120 GEL\nHiking included:3.2 km total\; t
 he hike to Gveleti waterfall is short (1.6 km one way)\, but uphill (ascent
  of 328 m). The last part (150 meters) of the hike is steep and includes wa
 lking on boulders.\n \nItinerary:We will leave Tbilisi early in the mornin
 g and drive to Kazbegi National Park along the famous Georgian Military Hig
 hway. The first stop during our Kazbegi (Stepantsminda) Day Tour will be Gv
 eleti village\, from where we will hike to the beautiful Gveleti Waterfall.
  We will also take a short drive to visit Dariali Monastery Complex. If we 
 have time we can order some food in Dariali restaurant.\nFinally\, we will 
 head to Stepantsminda to visit the 14th-century Gergeti Holy Trinity Church
 . If the sky is clear\, we may be lucky to see Mount Kazbegi. On the way\, 
 we will stop to see Gudauri Panorama and admire Zhinvali Reservoir. Return 
 to Tbilisi. The end of Kazbegi Day Tour.\n \nInclusions:\n\nTransfers\,\nS
 ightseeing/hiking itinerary with an English-speaking guide.\n4wd car for Ge
 rgeti\n\n \n\n\nExclusions:\n\nPersonal travel insurance\nMeals\nGratuitie
 s\n\n\n \nNote:Please check Terms and Conditions for our cancellation and 
 insurance policy\n \n \n\nHOW TO PREPARE FOR THE TOUR\n\nMEETING TIME AND
  PLACEWe meet 8:00 at Samaia Garden. Please be on time. In case of any dela
 ys\, please inform your guide. Otherwise\, the group will depart without yo
 u.\nWEATHER\nGeorgian weather changes often and fast. For this reason\, it
 ’s essential to follow the weather forecast closely. Here is the weather 
 forecast. Please check it the night before the tour to be well prepared.\nW
 HAT TO WEAR\nPlease wear clothes appropriate to the weather.We recommend wa
 rm clothes and comfortable walking shoes\, especially for the hiking sectio
 n.Hiking poles or raincoats\, having extra shoes to leave in the car is alw
 ays a good idea if the trail is wet.\nFOOD & DRINKSAlways make sure you hav
 e enough drinking water. 1.5–2 liters should be enough for the day.Please
  make sure to bring snacks – sandwiches\, dried fruit\, and sweets to eat
  during the tour.Time permitting we may stop at the restaurant for lunch.\n
 OTHER ESSENTIAL ITEMSIf you are prone to motion sickness\, please have medi
 cine with you.If the day is rainy\, make sure to bring a raincoat or an umb
 rella.\nGUIDE We will send you guide's contact details a few days before t
 he tour. Please make sure to check your inbox and spam.
LOCATION:Kazbegi\, Georgia
DTSTAMP:20260423T133109Z
DTSTART:20260516T040000Z
DTEND:20260516T170000Z
END:VEVENT
END:VCALENDAR
