BEGIN:VCALENDAR
VERSION:2.0
PRODID:-//Eventin//Event Calendar//EN
CALSCALE:GREGORIAN
METHOD:PUBLISH
BEGIN:VEVENT
UID:16b8f709ee55f8bed937003e6502f671@wtgeorgia.com
SUMMARY:Borjomi National Park Day Hike (LONG\, Likani to Kvabiskhevi) – 1
 7 May
DESCRIPTION:Let’s go to Borjomi-Kharagauli National Park to enjoy the for
 est\, pristine nature\, and breathtaking mountain views. This hike in Borjo
 mi-Kharagauli is great for hikers with some experience.\nDate: 17 MayDurati
 on: 1 dayDriving distance: 350 kmTrip difficulty: Moderate to challenging\,
  depending on your fitness level and hiking skillsPick-up: 09:00\, Samaia G
 arden\, TbilisiDrop-off: Around 21:00 (The arrival time will depend on the 
 traffic)Price: 110 GEL\n \nTrail parameters:\nDifficulty: Moderate to chal
 lenging\, depending on your fitness level and hiking skillsDistance: 16 km 
 – A to BMin. elevation: 925 m a.s.l.Max. elevation: 1785 m a.s.l.Total el
 evation gain: 860 mApproximate hiking time: 7-8 hrs.Trail description: It
 ’s a one-way hike with a couple of uphill sections. An incline of 860 met
 ers stretches over the first 7 km with a following steep decline of 700 m. 
 We recommend bringing walking poles to ease the descent. This hiking trail 
 is difficult for inexperienced hikers.\n \nItinerary:\nIn the morning\, we
  will head to Borjomi National Park. Our hike will start in the Likani Rive
 r Gorge. We have a quick stop at the administration. The trail is well know
 n for its spectacular views and the possibility of wildlife encounters. It
 ’s a moderate-level hike\, but it will be challenging for inexperienced h
 ikers.\nInitially\, we will hike in the forest. Once we reach the trail’s
  highest section\, we will see the gorge stretching below us. Finally\, we 
 will descend to Kvabiskhevi Valley. During the hike\, we will stop for a pi
 cnic lunch in a spectacular viewpoint from which you can admire the mountai
 ns of the Borjomi National Park. Please have your own lunch\, we are not go
 ing to stop at restaurant. Return to Tbilisi in the evening. The end of the
  trip.\n \nInclusions:\n\nTransfers\nSightseeing/hiking itinerary with an 
 English-speaking guide\n\n \n\n\nExclusions:\n\nPersonal travel insurance\
 nMeals\nGratuities\n\n\n \nNote:Please check Terms and Conditions for our 
 cancellation and insurance policy\n \n \n\nHOW TO PREPARE FOR THE TOUR\n\
 nMEETING TIME AND PLACEWe meet 9:00 at Samaia Garden. Please be on time. In
  case of any delays\, please inform your guide. Otherwise\, the group will 
 depart without you.\nWEATHER\nGeorgian weather changes often and fast. For 
 this reason\, it’s essential to follow the weather forecast closely. Here
  is the weather forecast. Please check it the night before the tour to be w
 ell prepared.\nWHAT TO WEAR\nPlease wear clothes appropriate to the weather
 .The trail we will hike can be challenging\, particularly the long descent 
 section.Make sure to wear proper hiking boots and bring walking poles.The l
 ast part might be muddy — we always recommend to leave extra shoes in the
  car.Raincoats are always good to have.Also bring sunscreen\, a cap\, or su
 nglasses.\nFOOD & DRINKS\nAlways make sure you have enough drinking water. 
 1.5–2 liters should be enough for the day.Make sure to bring snacks – s
 andwiches\, dried fruit\, and sweets.Please have your own lunch\, we are no
 t going to stop at restaurant.\nOTHER ESSENTIAL ITEMS\nIf you are prone to 
 motion sickness\, please have medicine with you.Bring a day pack to carry s
 mall items with you.\nGUIDE We will send you guide's contact details a few
  days before the tour. Please make sure to check your inbox and spam.
LOCATION:Borjomi\, Georgia
DTSTAMP:20260423T133129Z
DTSTART:20260517T050000Z
DTEND:20260517T170000Z
END:VEVENT
END:VCALENDAR
