BEGIN:VCALENDAR
VERSION:2.0
PRODID:-//Eventin//Event Calendar//EN
CALSCALE:GREGORIAN
METHOD:PUBLISH
BEGIN:VEVENT
UID:96d8c9c3493bea5f686cee2db03fccac@wtgeorgia.com
SUMMARY:Apollo Cinema Urbex
DESCRIPTION:Visit the abandoned Apollo Cinema in Tbilisi.\nDate: Anytime (p
 lease check guide availability) Duration: 1 hrStart:  in Marjanishvili ar
 ea (we will provide the exact location later)Cost: 95 Gel per person in cas
 e of 4 participants.Please let us know exactly how many people are interest
 ed\, and we will provide you with the exact price.\nThe now-a-days abandone
 d building of Apollo Cinema was built in 1909 and represents a beautiful ex
 ample of Art Neuvo architecture. In Soviet times\, cinema was called “Oct
 ober”. It’s beautiful decorations and spacious hall will take you to th
 e fantasy of beautiful balls and celebrations. The Apollo Cinema in Tbilisi
  is an iconic\, yet abandoned building with a rich history that reflects th
 e cultural and architectural heritage of Georgia’s capital. Located in th
 e heart of Tbilisi\, near the city’s bustling Rustaveli Avenue\, the Apol
 lo Cinema holds a special place in the history of Georgian cinema and urban
  architecture. Despite its neglect\, the building continues to capture the 
 imagination of photographers\, filmmakers\, and urban explorers who see bea
 uty in its faded grandeur.You don’t need to make any special preparations
  for this tour. But please make sure to wear warm clothes and comfortable s
 hoes.\n\nInclusions:\n\n\nGuided itinerary with a guide specializing in urb
 an exploration\n\n\n 
LOCATION:Tbilisi\, Georgia
DTSTAMP:20260423T151010Z
DTSTART:20250820T140000Z
DTEND:20340920T150000Z
END:VEVENT
END:VCALENDAR
