BEGIN:VCALENDAR
VERSION:2.0
PRODID:-//Eventin//Event Calendar//EN
CALSCALE:GREGORIAN
METHOD:PUBLISH
BEGIN:VEVENT
UID:4a3a68a511fe6a25ce1a5b836127bb8c@wtgeorgia.com
SUMMARY:Samshvilde Fortress Day Hike – 10 May
DESCRIPTION:Join us on a lovely\, scenic hike at Samshvilde Fortress. There
  is so much to see there – stunning cliff views\, pristine forest\, rapid
  rivers\, fascinating religious and historical sites! Get your cameras read
 y!\nDate: 10 MayDuration: 1 dayDriving distance: 130 kmTrip difficulty: Mod
 erateGroup size: Min. 6 participantsPick-up: 09:00\, Samaia Garden\, Tbilis
 iDrop-off: Around 18:00\, Samaia Garden\, Tbilisi (The arrival time will de
 pend on the group's speed and traffic)Price: 95 GEL\n \nTrail parameters:\
 nDifficulty: ModerateDistance: 17 km (Loop)Min. elevation: 570 m a.s.l.Max.
  elevation: 931 m a.s.l.Total ascent: 761 mTotal descent: 762 mApproximate 
 duration: 5-6 h\nTrail description: The trail runs in a loop around the mas
 sive cliff that houses Samshvilde Fortress. It's well-marked and clear. The
  hike starts in Samshvilde village and leads up the cliff. It later descend
 s towards the ruins of Pirgebuli Monastery and further to the bank of the K
 hrami River. The path continues along the river for several kilometers and 
 climbs up again under the Samshvilde Fortress. This section is steep and ti
 resome. We recommend bringing hiking poles. They will make your life easier
 .\n \nItinerary:\nIn the morning\, we will leave Tbilisi and head to the t
 iny village of Samshvilde\, located in the western part of Kvemo Kartli pro
 vince. Upon arrival\, we will start hiking first to the ruins of the 13th-c
 entury Pirgebuli Monastery and later descend the banks of the Khrami River.
 \nThe scenic path will take us through a thick forest. Sometime during this
  hike section\, we will find a cozy place and sit down to enjoy a picnic. B
 ring your favorite snacks with you! Eventually\, the trail will turn upward
 s\, making us climb towards the ruins of the ancient Samshvilde Fortress. T
 he climb is quite steep\, so walking poles will be helpful. Once we reach t
 he top of the cliff again\, we will have time to explore Samshvilde ruins b
 efore heading to our vehicle and driving back to Tbilisi. The end of the to
 ur.\n\n \n\nInclusions:\n\nTransfers\,\nSightseeing/hiking itinerary with 
 an English-speaking guide.\n\n \nExclusions:\n\nPersonal travel insurance\
 ,\nMeals\,\nGratitudes.\n\n\n \n \nNote:Please check Terms and Conditions
  for our cancellation and insurance policy\n \n \n\nHOW TO PREPARE FOR TH
 E TOUR\n\nMEETING TIME AND PLACEWe meet 9:00 at Samaia Garden. Please be on
  time. In case of any delays\, please inform your guide. Otherwise\, the gr
 oup will depart without you.\nWEATHER\nGeorgian weather changes often and f
 ast. For this reason\, it’s essential to follow the weather forecast clos
 ely. Here is the weather forecast. Please check it the night before the tou
 r to be well prepared.\nWHAT TO WEAR\nPlease wear clothes appropriate to th
 e weather. Hiking boots are a must. Raincoats\, sunscreen\, hiking poles if
  you use\, extra shoes in case of mud.\nFOOD & DRINKSAlways make sure you h
 ave enough drinking water. 1.5-2 liters should be enough for the day. Pleas
 e bring something to eat during the hike – sandwiches\, dried fruit\, and
  sweets.There are no dining places around Samshvilde\, so make sure to brin
 g enough food for picnic lunch.\nOTHER ESSENTIAL ITEMSIf you are prone to m
 otion sickness\, please have medicine with you. Bring a day pack to carry i
 mportant items with you. sun protection.\nGUIDE We will send you guide's c
 ontact details a few days before the tour. Please make sure to check your i
 nbox and spam.
LOCATION:Samshvilde\, Georgia
DTSTAMP:20260423T133140Z
DTSTART:20260510T050000Z
DTEND:20260510T140000Z
END:VEVENT
END:VCALENDAR
