BEGIN:VCALENDAR
VERSION:2.0
PRODID:-//Eventin//Event Calendar//EN
CALSCALE:GREGORIAN
METHOD:PUBLISH
BEGIN:VEVENT
UID:f4f183f7873cf03e0f3f8658eec883d5@wtgeorgia.com
SUMMARY:Vashlovani National Park Tour – 9-10 May
DESCRIPTION:Join our Vashlovani National Park Tour to experience the magica
 l landscape of this Georgian Savannah. Large part of the tour includes off-
 road drive. It's a perfect trip for real adventurers.\nONCE BOOKING WE NEED
  TO RECEIVE YOUR PASSPORT COPY AT weekiesgeorgia@gmail.com\nDates: 9-10 May
 Duration: 2 days/ 1 nightDriving distance: 650 kmTrip difficulty: Easy (inc
 ludes long off-road drives)Group size: min. 5 participantsAccommodation: Sh
 ared bungalows or TENTS (If you don't have your own camping equipment pleas
 e rent it on campshare.ge)\nPick-up: Sat\, 08:00\, Samaia Garden\, TbilisiD
 rop-off: Sun\, around 19:00 (The arrival time will depend on the group's sp
 eed and traffic)Price: 390 Gel\nItinerary:\nDay 1Tbilisi – Dedoplistskaro
  – Datviskhevi – Pantishara Gorge – Minjiskure\nWe will leave Tbilisi
  early in the morning and drive through Kakheti to Vashlovani National Park
 . Once we reach the park\, we will switch to off-road mode and head to expl
 ore Vashlovani hidden gems – Datviskhevi and Pantishara Gorge\, and the s
 tunning cliffs of Minjiskure. At Minjiskure\, we will set up our camp for t
 he night. we will also have shelter booked in case you dont want to camp. W
 e will spend the evening relaxing and admiring the stars.\nDay 2Minjiskure 
 – Elia Monastery – Restaurant – Tbilisi\nAfter breakfast\, we will vi
 sit Saint Elia Church.The visit requires following a steep rocky trail\, so
  it's not for everyone. If you have any mobility issues\, we recommend taki
 ng a stroll around the area instead.\nIn the early afternoon\, we will head
  delicious lunch in a local restaurant. Return to Tbilisi. The end of the t
 rip.\n \nInclusions:\n\n4WD transfers\,\nEnglish-speaking guide\,\nEntranc
 e fees and permits\,\nShelter fees or Camping fees. we will book shelter if
  it's available. if not\, you will need to have your own tent.\n\n\n \n\nE
 xclusions:\n\nMeals (every person brings their own supplies from Tbilisi)\,
 \nCamping equipment if shelter is not available. Sleeping bag is required e
 ven in shelter.\nPersonal travel insurance\,\nGratitudes.\n\n\n \n \nNote
 :Please check Terms and Conditions for our cancellation and insurance polic
 y\n \n\nHOW TO PREPARE FOR THE TOUR\n\n \nPASSPORT COPY:Once you book the
  tour we must receive your passport copy to process necessary permits. you 
 have to also bring passports.\nMEETING TIME AND PLACEWe meet 08:00 at Samai
 a Garden. Please be on time. In case of any delays\, please inform your gui
 de. Otherwise\, the group will depart without you.\nWEATHERGeorgian weather
  changes often and fast. For this reason\, it is essential to follow the we
 ather forecast closely. The weather forecast is here. Please check it the n
 ight before the tour to be well prepared. Keep in mind that the weather may
  change during the tour.\nWHAT TO WEARPlease wear clothes appropriate to th
 e weather. Wear comfortable shoes and clothes. Days in Vashlovani are still
  warm but nights can be cool. Make sure to have a warmer layer of clothes w
 ith you.\nFOOD & DRINKSAlways make sure you have enough drinking water. 1.5
 -2 liters should be enough for the day. Please bring something to eat for l
 unch on Day 1. We won’t have time to visit a restaurant.\nOTHER ESSENTIAL
  ITEMSIf you are prone to motion sickness\, please have medicine with you. 
 Bring a day pack to carry important items with you. bring mosquito protecti
 ons.\nGUIDE We will send you guide's contact details a few days before the
  tour. Please make sure to check your inbox and spam.
LOCATION:Vashlovani\, Georgia
DTSTAMP:20260423T133241Z
DTSTART:20260509T040000Z
DTEND:20260510T150000Z
END:VEVENT
END:VCALENDAR
