BEGIN:VCALENDAR
VERSION:2.0
PRODID:-//Eventin//Event Calendar//EN
CALSCALE:GREGORIAN
METHOD:PUBLISH
BEGIN:VEVENT
UID:df4a0d4c4156e9a24e0f9bdaaa7786dc@wtgeorgia.com
SUMMARY:Private overnight tour to Gomismta – From June to September
DESCRIPTION:After a long break\, we are back with tour in Guria region  Go
 mi Mountain (GomisMta). Let’s get beyond the clouds! \n \n\n\n\n\nDates
 : anytime From June to SeptemberDuration: 2 days/ 1 nightDriving distance: 
 690 kmTrip difficulty: Easy BUT LONG DRIVEGroup size: any sizeAccommodation
 : we are not staying at the mountain\, we wills stay in Ozurgeti. Twin shar
 ing rooms in the guesthouse with breakfast.\nPick-up: your hotel locationPr
 ices:\n2 persons - 780 gel per person\n5 persons - 395 gel per person\n10 P
 erson - 295 gel per person\nPlease let us know exact quantity of people.\n
  \nItinerary:\nDay 1Tbilisi – Gomismta - Ozurgeti\nWe will leave Tbilisi
  early in the morning and drive to Ozurgeti municipality in Guria. It’s a
  long drive so we will take plenty of stops to stretch our legs. Our object
 ive will be to reach Gomismta – a small mountain resort located on the no
 rthern slope of the Meskheti Range. Gomista lies at 2100 m.a.s.l. and is fa
 mous for its cloud views. In good weather\, an ocean of clouds stretches be
 low the village\, spoiling visitors with breathtaking scenery. We will spen
 d evening watching sunset there. at night we will go back to Ozurgeti town 
 to our guesthouse.\n \nDay 2Gomismta – Tbilisi\nIn the morning after bre
 akfast. we will head back to Tbilisi\, again taking our time to stop and en
 joy the landscapes. we might visit Zestaphoni waterfall or have a lunch sto
 p on the way. Return to Tbilisi. The end of the trip.\n\n \n\nInclusions:\
 n\nTransfers\nServices of an English-speaking guide\nAccommodation in a she
 lter\n\n \nExclusions:\n\nMeals (every person brings their own supplies fr
 om Tbilisi)\nCamping equipment\nPersonal travel insurance\nGratitudes\n\n\n
 \n\n \nNote:Please check Terms and Conditions for our cancellation and ins
 urance policy\n \n\nHOW TO PREPARE FOR THE TOUR\n\nMEETING TIME AND PLACEm
 orning\, your hotel location\nWEATHERGeorgian weather changes often and fas
 t. For this reason\, it’s essential to follow the weather forecast closel
 y. Here is the weather forecast.Please check it the night before the tour t
 o be well prepared.\nWHAT TO WEAR\nPlease wear clothes appropriate to the w
 eather. Wear comfortable shoes and clothes. Days in Gomismta are still warm
  but nights can be cool. Make sure to have a warmer layer of clothes with y
 ou.\nFOOD & DRINKSAlways make sure you have enough drinking water. 1.5–2 
 liters should be enough for the day. Please bring something to eat to snack
 . \nOTHER ESSENTIAL ITEMSIf you are prone to motion sickness\, please have
  medicine with you. Bring a day pack to carry important items with you. Sun
  protection.\nGUIDE We will send you guide's contact details a few days be
 fore the tour. Please make sure to check your inbox and spam.
LOCATION:Guria\, Georgia
DTSTAMP:20260423T151034Z
DTSTART:20250601T040000Z
DTEND:20280930T170000Z
END:VEVENT
END:VCALENDAR
