BEGIN:VCALENDAR
VERSION:2.0
PRODID:-//Eventin//Event Calendar//EN
CALSCALE:GREGORIAN
METHOD:PUBLISH
BEGIN:VEVENT
UID:35195cc4b366f133a7bb1b3624b40990@wtgeorgia.com
SUMMARY:Tavkavta Canyon Day Hike – 13 June 2026
DESCRIPTION:Let’s visit one of our favorite hiking destinations – the s
 tunning Tavkavta Canyon! There\, in the deep\, old forest\, we will look fo
 r crystal-clear rivers\, flowery meadows\, and the ruins of an old\, forgot
 ten church. The views are unforgettable.\nImportant! This hike includes sev
 eral river crossings. You will get wet!\nDate: 13 June 2026Duration: 1 dayD
 riving distance: 130 kmTrip difficulty: Moderate to challenging\, depending
  on your fitness levelPick-up: 09:00\, Samaia Garden\, TbilisiDrop-off: Aro
 und 18:00\, Samaia Garden\, Tbilisi (The arrival time will depend on the gr
 oup’s speed and traffic)Price: 130 GEL\n \nTrail parameters:\nDifficulty
 : Moderate to challenging\, depending on your fitness levelDistance: 12 km 
 (A to B)Min. elevation: 1110 m a.s.lMax. elevation: 1737 m a.s.lTotal desce
 nt: 600 m (this trail includes a long downhill section)Approximate duration
 : 5-6 h\nTrail description: The trail starts with an even flat section lead
 ing through a forest and green meadows. After the first few kilometers\, th
 e trail gently climbs toward the ruins of a medieval monastery. It then des
 cends along a mountain path to the Kavtura River. The last section of the h
 ike includes crossing the river several times. You will get wet! We recomme
 nd wearing hiking boots and bringing walking poles.\n \nItinerary:\nWe wil
 l leave Tbilisi in the morning and head to the Didgori Battle Memorial\, de
 dicated to one of the most important and famous battles in the history of G
 eorgia.\nFrom Didgori\, we will drive off-road to Sakurtkhisi village and s
 tart our hike. Our trail begins at the elevation of 1737m a.s.l and is most
 ly downhill. It requires good hiking shoes/boots and trekking poles to mini
 mize the impact on the body and decrease the probability of falls and misha
 ps. The hike starts on an open field with a fantastic view of the mountains
 . It then continues to a small monastic complex containing ruins of an old 
 medieval monastery and eventually descends into a gorge covered with an imp
 ressive\, ancient forest.\nVery few hikers visit Tavkavta\, so the trail is
  untouched and covered with foliage. It follows a swift\, crystal clear riv
 er\, which we will cross twice (bring sandals!). Once you cross the river\,
  we will reach a scenic picnic spot next to a small waterfall pool where yo
 u can swim. Later\, we will take a short walk (15 min) to meet our vehicle.
  Return to Tbilisi. The end of the tour.\n\n \n\nInclusions:\n\nTransfers\
 ,\nSightseeing/ hiking itinerary with an English-speaking guide.\n\n \nExc
 lusions:\n\nPersonal travel insurance\,\nMeals\,\nGratitudes.\n\n\n \nNote
 :Please check Terms and Conditions for our cancellation and insurance polic
 y\n \n\nHOW TO PREPARE FOR THE TOUR\n\nMEETING TIME AND PLACEWe meet 9:00 
 at Samaia Garden. Please be on time. In case of any delays\, please inform 
 your guide. Otherwise\, the group will depart without you.\nWEATHER\nGeorgi
 an weather changes often and fast. For this reason\, it’s essential to fo
 llow the weather forecast closely. Here is the weather forecast. Please che
 ck it the night before the tour to be well prepared.\nWHAT TO WEAR\nPlease 
 wear clothes appropriate to the weather. Hiking boots are a must. We also r
 ecommend walking poles. Since we will be crossing a river\, bring sandals o
 r flip-flops. You can also bring a spare pair of trousers to change into if
  your clothes get wet.\nFOOD & DRINKSAlways make sure you have enough drink
 ing water. 1.5–2 liters should be enough for the day. Please bring someth
 ing to eat during the hike – sandwiches\, dried fruit\, and nuts. There a
 re no dining places around Tavkavta\, so make sure to bring enough food for
  picnic lunch.\nOTHER ESSENTIAL ITEMSIf you are prone to motion sickness\, 
 please have medicine with you. Bring a day pack to carry important items wi
 th you.\nGUIDE We will send you guide's contact details a few days before 
 the tour. Please make sure to check your inbox and spam.
LOCATION:Didgori memorial\, Georgia
DTSTAMP:20260425T013141Z
DTSTART:20260613T050000Z
DTEND:20260613T150000Z
END:VEVENT
END:VCALENDAR
