BEGIN:VCALENDAR
VERSION:2.0
PRODID:-//Eventin//Event Calendar//EN
CALSCALE:GREGORIAN
METHOD:PUBLISH
BEGIN:VEVENT
UID:3e74870219762a6e25a4a04f32a9fa53@wtgeorgia.com
SUMMARY:Abudelauri Lakes (Roshka) Day Hike – 28 June 2026
DESCRIPTION:Join us on a day hike to the colorful Abudelauri Lakes near Ros
 hka village. Our trail will take us through a peaceful mountain valley up t
 o the southern slopes of Mount Chaukhi\, where three stunning tarns spoil h
 ikers with breathtaking colors.\nDate: 28 June 2026Duration: 1 dayDriving d
 istance: 210 kmTrip difficulty: Easy to ModerateGroup size: Min. 5 particip
 antsPick-up: 08:00\, Samaia Garden\, TbilisiDrop-off: Around 21:00 (The arr
 ival time will depend on the traffic)Price: 140 GEL\n \nTrail parameters:\
 n\n\nDifficulty: Easy (Moderate for inexperienced hikers or hikers not used
  to high-altitude trails)\n\nDistance: 10 km – A to A LOOP\nMin. elevatio
 n: 1984 m.a.s.l.\nMax. elevation: 2834 m.a.s.l.\nTotal ascent: 514 m\nAppro
 ximate hiking time: 6 hrs. (4 hrs moving time\, 2 hrs stopped time)\nTrail 
 description:THIS IS THE NEW TRAIL. The trail starts at the end of Roshka an
 d leads through a picturesque valley to the foothills of Mount Chaukhi. Tra
 il has 4 sections:From end of Roshka village to White lake\, from White lak
 e to Blue lake\, from Blue lake to Green lake\, from Green lake to end of R
 oshka village.\n\n \nItinerary:\nWe will leave Tbilisi early in the mornin
 g and drive to the tiny\, remote village of Roshka. In Roshka\, we will lea
 ve our vehicles and start our hike.\nThe walk will take us through a beauti
 ful\, spacious valley. We will cross a small stream and gradually start hik
 ing towards Mount Chaukhi\, rising at the valley’s northern end. At the p
 ath’s end lies White Lake fed by the water sipping from Chaukhi Glacier.O
 nce we reach White Lake\, we rest\, enjoy the views\, and eat our picnic lu
 nch. After we will hike a steep downhill towards the Blue lake. We will aga
 in stop at blue lake to take photos and have water/snack stop.\nOur third s
 top will be the tiny Green Lake\, named after the color of its waters. From
  Green lake we will continue to the old trail and at some point we will tur
 n towards our cars. The hike becomes a loop.\nWe will head back to our vehi
 cles. Time/energy permitting we can stop at restaurant on the way. Return t
 o Tbilisi. The end of the tour.\n \nInclusions:\n\n4WD Transfers\nSightsee
 ing/hiking itinerary with an English-speaking guide\n\n \nExclusions:\n\nP
 ersonal travel insurance\nFood\nGratitudes\n\n \n\nNote:Please check Terms
  and Conditions for our cancellation and insurance policy\n \n \n\nHOW TO
  PREPARE FOR THE TOUR\n\nMEETING TIME AND PLACEWe meet at 8:00 at Samaia Ga
 rden. Please be on time. In case of any delays\, please inform your guide. 
 Otherwise\, the group will depart without you.\nWEATHER\nGeorgian weather c
 hanges often and fast. For this reason\, it's essential to follow the weath
 er forecast closely. Here is the weather forecast. Please check it the nigh
 t before the tour to be well prepared.\nWHAT TO WEAR\nPlease wear clothes a
 ppropriate to the weather. Make sure to wear proper hiking boots and bring 
 walking poles if you have. have jacket. you can have spare shoes and leave 
 them in the car.\nFOOD & DRINKSAlways make sure you have enough drinking wa
 ter. 1.5-2 liters should be enough for the day. Make sure to bring snacks 
 – sandwiches\, dried fruit\, and sweets. They will help you maintain your
  energy level throughout the hike.\nOTHER ESSENTIAL ITEMSIf you are prone t
 o motion sickness\, please have medicine with you. Make sure to have sungla
 sses and suncream with you.\n \nGUIDE We will send you guide's contact de
 tails a few days before the tour. Please make sure to check your inbox and 
 spam.
LOCATION:Roshka\, Georgia
DTSTAMP:20260423T133139Z
DTSTART:20260628T040000Z
DTEND:20260628T170000Z
END:VEVENT
END:VCALENDAR
