BEGIN:VCALENDAR
VERSION:2.0
PRODID:-//Eventin//Event Calendar//EN
CALSCALE:GREGORIAN
METHOD:PUBLISH
BEGIN:VEVENT
UID:dc93d899d73302ed86ada1f5d0e6bb9d@wtgeorgia.com
SUMMARY:Dashbashi Canyon and Asureti Village Day Tour – 14 June 2026
DESCRIPTION:This itinerary combines two fantastic sites – the amazing Das
 hbashi Canyon with a 240-meter-long glass bridge and the historical Asureti
  village built by 19th-century German settlers.\n \n\n\n\n\nDate:  14 Jun
 e 2026Duration: 1 dayDriving distance: 250 kmTrip difficulty: EasyGroup siz
 e: Min 5Pick-up: 09:00\, Samaia Garden\, TbilisiDrop-off: Around 20:00 (The
  arrival time will depend on the group’s speed and traffic)Price: 95 GEL\
 n \nItinerary:\nWe will start the day with a morning drive to Tsalka (Dash
 bashi) Canyon. Once we reach the canyon\, we will take a walk on a 240-mete
 rs-long glass bridge stretching over it. Next\, we will take a short hike d
 own the canyon to see the beautiful Dashbashi Waterfall. The walk is short\
 , only around 3 km round way. Later on\, we will also explore the area of S
 t. George Church\, a medieval temple overlooking the canyon. From Dashbashi
 \, we will head to Asureti\, a cozy village once known as Elisabethtal. Ger
 man settlers built the town at the beginning of the 19th century. The place
  still partially maintains its original architecture. We will stroll the co
 bbled streets\, visit a local cemetery\, and dine in the Bahnhof Station re
 staurant.\n \nInclusions:\n\nTransfers\nSightseeing itinerary with an Engl
 ish-speaking guide\n\n \n\n\n\n\nExclusions:\n\n\nPersonal travel insuranc
 e\n\n\nMeal\n\nEntrance fees (70 gel)\n\n\n \nNote:Please check Terms and 
 Conditions for our cancellation and insurance policy\n \n\nHOW TO PREPARE 
 FOR THE TOUR\n\nMEETING TIME AND PLACEWe meet 9:00 at Samaia Garden. Please
  be on time. In case of any delays\, please inform your guide. Otherwise\, 
 the group will depart without you.\nWEATHER\nGeorgian weather changes often
  and fast. For this reason\, it's essential to follow the weather forecast 
 closely. Here is the weather forecast. Please check it the night before the
  tour to be well prepared.\nWHAT TO WEAR\nPlease wear clothes appropriate t
 o the weather. Wear comfortable sports shoes. We will be walking a lot.\nFO
 OD & DRINKSAlways make sure you have enough drinking water. 1.5 - 2 liter s
 hould be enough for the day. Please make sure to bring snacks to stay full 
 before the meal time.Additionally\, we will also stop in the supermarket in
  the morning to make sure you have everything you need.\nOTHER ESSENTIAL IT
 EMSIf you are prone to motion sickness\, please have medicine with you. Bri
 ng a day pack to carry important items with you. sun protection.\nGUIDE We
  will send you guide's contact details a few days before the tour. Please m
 ake sure to check your inbox and spam.
LOCATION:Tsalka canyon\, Georgia
DTSTAMP:20260424T133553Z
DTSTART:20260614T050000Z
DTEND:20260614T160000Z
END:VEVENT
END:VCALENDAR
