BEGIN:VCALENDAR
VERSION:2.0
PRODID:-//Eventin//Event Calendar//EN
CALSCALE:GREGORIAN
METHOD:PUBLISH
BEGIN:VEVENT
UID:d93781ff1e6cffecf68eaf0f34b834ab@wtgeorgia.com
SUMMARY:Rtveli – Grape Harvest Day Tour – 19 Sep 2026
DESCRIPTION:Have you ever heard about Rtveli? It’s a traditional vintage 
 and rural harvest holiday in Georgia accompanied by feasts and celebrations
 . It usually takes place from mid-September to mid-October. Join us on tour
  to help local winemakers pick up the grapes and to have some fun (with win
 e\, of course)!\n \nDate: 19 September 2026Duration: 1 dayDriving distance
 : Around 200-250 kmTrip difficulty: EasyPick-up: 10:00\, Samaia Garden\, Tb
 ilisiDrop-off: Around 19:00\, Samaia Garden\, Tbilisi (The arrival time wil
 l depend on the group’s speed and traffic)Price: 220 GEL\n \nItinerary:\
 nWe will leave Tbilisi in the morning and head to a cozy family winery in K
 akheti. Upon arrival\, we will meet our host. We will then head to the vine
 yards to start collecting grapes. The work is hard – grapes must be colle
 cted\, and the juice must be squeezed out. In the past\, winemakers and the
 ir families used to do that by stomping on the grapes with bare feet. Nowad
 ays\, machines are helping with processing the grapes. Once we are done wit
 h our work a time will come for the celebration with a a lovely homemade di
 nner made of traditional local dishes. Masterclass of Making Georgian food.
  Return to Tbilisi in the evening. The end of the tour.\n \nInclusions:\n\
 nTransfers\nEnglish-speaking guide\nParticipation in Rtveli\nHomemade meal\
 nWine tasting and snacks\nMasterclasses of making Georgian food\n\n \nExcl
 usions:\n\nPersonal travel insurance\nGratitudes\n\n \n\nNote:Please check
  Terms and Conditions for our cancellation and insurance policy\n \n\nHOW 
 TO PREPARE FOR THE TOUR\n\nMEETING TIME AND PLACEWe meet 10:00 at Samaia Ga
 rden. Please be on time. In case of any delays\, please inform your guide. 
 Otherwise\, the group will depart without you.\nWEATHER\nGeorgian weather c
 hanges often and fast. For this reason\, it’s essential to follow the wea
 ther forecast closely. Here is the weather forecast. Please check it the ni
 ght before the tour to be well prepared.\nWHAT TO WEAR\nPlease wear clothes
  appropriate to the weather. Wear comfortable shoes and outfit. You might g
 et dirty in vineyard\, bring something to exchange.\nFOOD & DRINKSAlways ma
 ke sure you have enough drinking water. 1.5-2 liters should be enough for t
 he day. or bring bottle and you can fill it later.\nOTHER ESSENTIAL ITEMSIf
  you are prone to motion sickness\, please have medicine with you. Bring a 
 day pack to carry important items with you. have sun protection.\nGUIDE We
  will send you guide's contact details a few days before the tour. Please m
 ake sure to check your inbox and spam.
LOCATION:Kakheti\, Georgia
DTSTAMP:20260423T225926Z
DTSTART:20260919T060000Z
DTEND:20260919T150000Z
END:VEVENT
END:VCALENDAR
