BEGIN:VCALENDAR
VERSION:2.0
PRODID:-//Eventin//Event Calendar//EN
CALSCALE:GREGORIAN
METHOD:PUBLISH
BEGIN:VEVENT
UID:65bcfa3d54c74906b3985909dccadd92@wtgeorgia.com
SUMMARY:Khevsureti Overnight Tour (Shatili and Mutso) – 27-28 June 2026
DESCRIPTION:Join us on an off-road adventure to the historical region of Kh
 evsureti. Let’s cross the sky-reaching Datvisjvari Pass\, medieval fortif
 ied villages\, powerful mountain streams\, and hidden valleys. The land of 
 myths\, folk tales\, and centuries-long history awaits us!\n \n\n\n\n\nDat
 es: 27-28 June 2026Duration: 2 days / 1 nightDriving distance: 300 kmTrip d
 ifficulty: Easy BUT the trip includes two long off-road drives on a steep\,
  narrow mountain road.Group size: Min. 5 participantsAccommodation: shared 
 twin/double rooms in a local guesthouseHiking included: YESReaching Mutso F
 ortress requires a 20-30 minute-long uphill walk on a steep mountain path.\
 nPick-up: Sat\, 08:00\, Samaia Garden\, TbilisiDrop-off: Sun\, around 21:00
 \, Samaia Garden\, Tbilisi (The arrival time will depend on the traffic)Pri
 ce: 450 GEL\n \nItinerary:\nDay 1Tbilisi – Datvisjvari Pass – Shatili 
 – Anatori Burial Vaults\nWe will depart Tbilisi in the morning and head n
 orth to Khevsureti. Around noon our vehicle will reach Datvisjvari Pass –
  a high mountain pass at an elevation of 2689 m.a.s.l. The views from the t
 op are among the most scenic in Georgia. From Datvisjvari Pass\, we will de
 scend towards Shatili\, a historic highland village nested in the deep Argh
 uni Gorge. The settlement is a unique complex of fortified dwellings that s
 erved as a residential area and a fortress guarding the northeastern outski
 rts of the country. Later\, we will continue to Anatori Burial Vaults – a
  fascinating memorial of Khevsuretian culture and beliefs. Overnight in a g
 uesthouse.\nDay 2Mutso – Datvisjvari Pass – Tbilisi\nWe will start our 
 day by exploring the historic village of Ardoti. Next\, we will head to Mut
 so\, another spectacular fortified settlement offering incredible history a
 nd views. We will hike up the hill for about 20–30 min (elevation gain of
  115m) to get to the fortress. The hike is steep and challenging if you are
  out of shape\, but the views are worth it. Once we finish sightseeing Muts
 o\, we will start a picturesque drive back to Tbilisi. On the way\, if we h
 ave enough time and energy\, we can book a rafting tour on the Aragvi river
  (optional). Return to Tbilisi in the evening. The end of Khevsureti overni
 ght tour.\n \nInclusions:\n\nTransfers (4WD)\nSightseeing/hiking itinerary
  with an English-speaking guide\nAccommodation in shared twin/double rooms 
 in a local guesthouse (1 night)\nBreakfast on Day 2\nDinner on Day 1\nEntra
 nce fees as per itinerary\n\n \nExclusions:\n\nPersonal travel insurance\n
 Lunch on Day 1 and Day 2\nGratuities\nActivities mentioned in the itinerary
  as optional\n\n\n\n\n \nNote:Please check Terms and Conditions for our ca
 ncellation and insurance policy\n \n\nHOW TO PREPARE FOR THE TOUR\n\nMEETI
 NG TIME AND PLACEWe meet 8:00 at Samaia Garden. Please be on time. In case 
 of any delays\, please inform your guide. Otherwise\, the group will depart
  without you.\nGUESTHOUSE: PLEASE NOT THE AREA IS NOT DEVELOPED YET. Guesth
 ouses are very basic. Please have your shampoo or toothbrush. \nWEATHERGeo
 rgian weather changes often and fast. For this reason\, it’s essential to
  follow the weather forecast closely. Here is the weather forecast.Please c
 heck it the night before the tour to be well prepared.\nWHAT TO WEARPlease 
 wear clothes appropriate to the weather. Bring layers. The days are warm in
  Khevsureti but the evenings can get chilly. Long sleeves\, light jackets\,
  and long trousers (on top of shorts and t-shirts) may come in handy. Bring
  sun cream\, hats\, and sunglasses to protect yourself from the sun. Wear w
 alking/sports shoes for the hikes. Just in case\, you may also pack a rainc
 oat.\nTHE ROADThe road to Khevsureti is difficult. It’s long\, sometimes 
 many hours in the car. It may even get scary as it runs along a deep canyon
 . If you are prone to motion sickness\, bring the medicine and take it befo
 re the trip. We will be taking plenty of stops to take photos and to rest. 
 If you need to stop\, let your guide know. The drivers will stop as soon as
  they find a proper place for that.\nFOOD & DRINKSAlways make sure you have
  enough drinking water. 1.5–2 liters should be enough for the day. Please
  make sure to bring snacks – sandwiches\, dried fruit\, and sweets for th
 e road. They will help you maintain your energy between meals.Food included
 : Breakfast on Day 2 and Dinner on Day 1 are included in the price of the t
 our. You will eat them in your guesthouse. The price doesn’t cover lunche
 s\, but you will have an opportunity to buy them locally.Please let us know
  if you have any allergies or food preferences well in advance. We will let
  you know to what degree we can accommodate you. The food choice is limited
  in Khevsureti\, so if you have some comfort food you can’t live without\
 , please bring it with you.\nMONEYBring CASH. There are no ATMs in Khevsure
 ti\, and people don’t accept credit cards. Lunch usually costs 20–25 GE
 L per person. You may also bring cash to spend on local souvenirs (20–50 
 gel).\nOTHER ESSENTIAL ITEMSIf you are prone to motion sickness\, please ha
 ve medicine with you. Bring a daypack to carry important items with you. Kh
 evsureti is very remote\, so guesthouses are conserving electric energy\, w
 hich they make using solar panels. You will be able to charge cameras\, pho
 nes\, and tablets. But leave hair dryers\, electric shaving machines\, and 
 other similar devices at home.\nGUIDE We will send you guide's contact det
 ails a few days before the tour. Please make sure to check your inbox and s
 pam.
LOCATION:Khevsreti\, Georgia
DTSTAMP:20260423T133129Z
DTSTART:20260627T040000Z
DTEND:20260628T170000Z
END:VEVENT
END:VCALENDAR
