BEGIN:VCALENDAR
VERSION:2.0
PRODID:-//Eventin//Event Calendar//EN
CALSCALE:GREGORIAN
METHOD:PUBLISH
BEGIN:VEVENT
UID:ac315fe52c57702e411c90d44b1b4a60@wtgeorgia.com
SUMMARY:Private hiking tour Altihut 3014m Kazbegi from June to October
DESCRIPTION:This overnight tour is the perfect way to experience the Kazbeg
 i region\, from its main attractions and cultural landmarks to Althuti hike
  which offers breathtaking views of Mount Kazbegi (5\,054).\n \n\n\n\n\nDa
 te: any dates from June to OctoberDuration: 2 days / 1 nightDriving distanc
 e: 370 kmTrip difficulty: Moderate\, hard for inexperienced hikers.Accommod
 ation: price is based on guesthousesGroup size: any quantityPick-up: mornin
 g\, your hotel locationDrop-off: Sun\, around 20:00 (The arrival time will 
 depend on the traffic)Prices: 2 persons :  1140 gel per person5 persons: 
 480 gel per person10 persons: 380 gel per personplease let us know your exa
 ct quantity for exact price.\n \nTrail parameters:\nGveleti Waterfall Hike
  – 3 km / 2 hrs / easy level / min. elevation 1432 m.a.s.l / max. elevati
 on 1721 m.a.s.l.\n \nAlthuti Trail\nStarting Point: Gergeti Trinity Church
  (approx. 2\,200 meters / 7\,218 feet elevation)Ending Point: Althuti 3014 
 (3\,014 meters / 9\,888 feet elevation)Distance: Approximately 5 kilometers
  (3.1 miles) one-wayElevation Gain: Around 800 meters (2\,625 feet)Difficul
 ty: ModerateEstimated Time: 3 to 4 hours one-way\nThe trail begins with a s
 teep ascent from Gergeti Trinity Church\, gradually leveling out as you app
 roach Althuti. The path is well-trodden and does not require technical clim
 bing skills\, but a good level of fitness is recommended.\n \n \nItinerar
 y:\nDay 1: Tbilisi – Stepantsminda – Gveleti WaterfallOur journey begin
 s with a scenic drive along the Georgian Military Highway\, heading towards
  the mountainous region of Stepantsminda. Along the way\, we’ll make stop
 s at the picturesque Jinvali Reservoir\, the historic Ananuri Fortress\, an
 d the panoramic viewpoint of Gudauri.Upon arrival in Stepantsminda\, we’l
 l embark on a short hike to the beautiful Gveleti Waterfall\, tucked away i
 n the dramatic Caucasus landscapes. After the hike\, enjoy a local lunch an
 d settle in for an overnight stay in Stepantsminda.\nDay 2: Stepantsminda 
 – Gergeti Trinity Church – Althuti Hike – TbilisiAfter breakfast\, we
 ’ll visit the iconic Gergeti Holy Trinity Church. Perched at 2\,170 meter
 s above sea level\, this 14th-century monument offers breathtaking views an
 d is one of Georgia’s most photographed landmarks.From here\, we’ll beg
 in the Althuti hike\, taking in the stunning alpine scenery as we ascend fu
 rther into the high Caucasus. After the hike\, we’ll return to Tbilisi in
  the evening.\nNote: The itinerary may be adjusted depending on weather con
 ditions. The guide may switch the hiking days to ensure the best experience
 .\n \nInclusions:\n\nTransfers\n4WD transfer to Gergeti\nSightseeing/hikin
 g itinerary with an English-speaking guide\nEntrance fees if required\nHote
 l with breakfast\n\n \nExclusions:\n \n\nMeals\nFood (we’ll stop in the
  restaurants)\nPersonal expenses\n\n\n\n\n \nNote:Please check Terms and C
 onditions for our cancellation and insurance policy\n \n \n\nHOW TO PREPA
 RE FOR THE TOUR\n\nMEETING TIME AND PLACEyour hotel location. \nWEATHERGeo
 rgian weather changes often and fast. For this reason\, it’s essential to
  follow the weather forecast closely. The weather forecast is here.Please c
 heck it the night before the tour to be well prepared. Keep in mind that th
 e weather may change during the tour.\nWHAT TO WEARPlease wear clothes appr
 opriate to the weather. Hiking boots and walking poles are a must. Bring on
 e set of warm clothes and one very light summer outfit. Good raincoats\, ra
 in covers for backpacks\, and another pair of shoes or sandals to wear in t
 he evenings are a must.\nFOOD & DRINKSAlways make sure you have enough drin
 king water. 1.5–2 liters should be enough for the day. You will be able t
 o buy bottled water in local supermarkets.For lunch we make sure to have sn
 acks prepared. In the evening we will visit a restaurant in Stepantsminda.\
 nEQUIPMENT & OTHER ESSENTIAL ITEMSIf you are prone to motion sickness\, ple
 ase have medicine with you. Bring a small daypack to carry small\, essentia
 l items during the hikes. \nRecommended Gear\n\nSturdy hiking boots\nTrekk
 ing poles (helpful for steep sections)\nWeather-appropriate clothing (layer
 s recommended)\nSun protection (hat\, sunglasses\, sunscreen)\nAmple water 
 and snacks\nBasic first aid kit\n\nGUIDE We will send you guide's contact 
 details a few days before the tour. Please make sure to check your inbox an
 d spam.
LOCATION:Kazbegi\, Georgia
DTSTAMP:20260424T014440Z
DTSTART:20250701T050000Z
DTEND:20291031T160000Z
END:VEVENT
END:VCALENDAR
