BEGIN:VCALENDAR
VERSION:2.0
PRODID:-//Eventin//Event Calendar//EN
CALSCALE:GREGORIAN
METHOD:PUBLISH
BEGIN:VEVENT
UID:3a34ca2cc8e55588425a68806dcc6a22@wtgeorgia.com
SUMMARY:Biisi Waterfall & Uplistsikhe Day Tour – 7 June 2026
DESCRIPTION:Join us on a spring trip to Biisi Waterfall and the rock-hewn t
 own of Uplistsikhe. Let’s enjoy spectacular views\, hiking\, and sightsee
 ing.\n\n\n\nDate: 7 June 2026\nDuration: 1 day\nDriving distance: 230 km\nT
 rip difficulty: Easy\nGroup size: Min. 5 participants\nPick-up: 09:00\, Sam
 aia Garden\, Tbilisi\nDrop-off: Around 19:00 (The arrival time will depend 
 on the traffic)\nPrice: 95 GEL\n \n\n\nTrail parameters:\n\n\nDifficulty: 
 Easy\nDistance: 5 km – round way\nMin. elevation: 1070 m.a.s.l. (Starting
  point)\nMax. elevation: 1437 m.a.s.l.\nTotal ascent: 367 m\nApproximate hi
 king time: 2-3 hrs.\nTrail description: the hike leads through a picturesqu
 e forest along a small stream. Hikers must cross the creek several times. T
 he path leads slightly uphill\, but the ascent is very manageable.\n\n \n\
 nItinerary:\n\n\nWe will leave Tbilisi in the morning and head to Tana Vall
 ey\, also known as Ateni Sioni Gorge. On the way\, we will stop to visit Up
 listsikhe\, an ancient rock-hewn settlement built on the bank of the Mtkvar
 i River. From Uplistikshe\, we will drive to Ateni Sioni\, an early 7th-cen
 tury church famous for beautiful frescoes.\n\n\nFinally\, we will reach the
  starting point of our hike. We will follow a narrow path leading through w
 ild meadows and forests. On the way\, we will cross a small creek several t
 imes. Usually\, the water is shallow\, but you may still need to remove you
 r shoes. Once we reach Biisi Waterfall\, we will have time to relax and tak
 e photos. In winter\, Biisi is often fully frozen and offers stunning winte
 r views.Return to Tbilisi in the evening. The end of the trip.\n\n \nInclu
 sions:\n\n\nTransfers\n\n\nSightseeing/hiking itinerary with an English-spe
 aking guide\n\n\n\n \n\nExclusions:\n\n\nThe entrance fee to Uplistsikhe (
 15 GEL)\n\n\nPersonal travel insurance\n\n\nMeal\n\n\n\n \nNote:Please che
 ck Terms and Conditions for our cancellation and insurance policy\n \n\nHO
 W TO PREPARE FOR THE TOUR\n\nMEETING TIME AND PLACEWe meet 09:00 at Samaia 
 Garden. Please be on time. In case of any delays\, please inform your guide
 . Otherwise\, the group will depart without you.\nWEATHER\nGeorgian weather
  changes often and fast. Forthis reason\, it's essential to follow the weat
 her forecast closely. Here is the weather forecast . Please check it the 
 night before the tour to be well prepared. \n \nWHAT TO WEAR\nPlease wear
  clothes appropriate to the weather. The trail we will hike is not very cha
 llenging. But it includes several shallow stream crossings. Wear proper hik
 ing boots.  if its winter please wear layers. bring extra shoes and leave 
 it in the car. Trekking poles are always helpful.\n \n\nFOOD & DRINKS\nAlw
 ays make sure you have enough drinking water. 1.5-2 litters should be enoug
 h for the day. Please make sure to bring snacks - sandwiches\, dried fruit
 \, sweets. They will help you maintain your energy level until late lunch.
  \n \nOTHER ESSENTIAL ITEMS\nIf you are prone to motion sickness\, please
  have medicine with you. Bring a day pack to carry important items with 
 you. \n \n\nGUIDE We will send you guide's contact details a few days be
 fore the tour. Please make sure to check your inbox and spam.
LOCATION:Ateni\, Georgia
DTSTAMP:20260423T133129Z
DTSTART:20260607T050000Z
DTEND:20260607T150000Z
END:VEVENT
END:VCALENDAR
