BEGIN:VCALENDAR
VERSION:2.0
PRODID:-//Eventin//Event Calendar//EN
CALSCALE:GREGORIAN
METHOD:PUBLISH
BEGIN:VEVENT
UID:eeb49ad051a782716339dfc1a7806b19@wtgeorgia.com
SUMMARY:Tusheti 3 days Adventure – 10-12 July 2026
DESCRIPTION:Join us on a tour to Tusheti – a remote paradise of untouched
  nature with breathtaking views that you will never forget! It’s the best
  place for hiking\, beautiful villages\, and Tushetian food!\nDate: 10-12 J
 uly 2026\n\n \nDOCUMENTS: PASSPORTS REQUIRED FOR FORTRESS VISITING.\n\nDur
 ation: 3 days/2 nightsDriving distance: 450 kmTrip difficulty: Easy BUT the
  trip includes two VERY long off-road drives on a steep\, narrow mountain r
 oad.Group size: Min. 5 participantsAccommodation: shared twin/double rooms 
 in a local guesthousePick-up: Fri\, 07:00\, Samaia Garden\, TbilisiDrop-off
 : Sun\, around 21:00\, Samaia Garden\, Tbilisi (The arrival time will depen
 d on the traffic)Price: 780 GEL\n \nHiking included: YESHike to Diklo fort
 ress – 8 km (round-way)\, an altitude gain of 368 m.Hike from Dartlo to K
 vavlo – 3 km (round-way)\, altitude gain of 320 m.Shorter walks around Om
 alo and other villages.\n \nDay 1Tbilisi – Gombori Pass – Lechuri – 
 Abano Pass – Shenako - Diklo - Omalo\nWe will depart Tbilisi very early i
 n the morning. Our drive will take us over Gombori Pass to the foothills of
  the Great Caucasus. Once we reach the village of Lechuri\, we will turn of
 f the asphalt road and follow an unpaved mountain route towards Abano Pass 
 – the highest driveable mountain pass in the Caucasus (2\,826 m.a.s.l.). 
 Prepare for an EXTREMELY scenic yet DIFFICULT ride. It will take us a minim
 um of 3 hours to climb to the top of the pass and another 2 or 3 hours to r
 each our guesthouse. Upon arrival in Tusheti\, we will head to our guesthou
 se in Omalo before exploring the area. e will visit the picturesque St. Geo
 rge Church in Shenako village and hike to the ruins of the Diklo Fortress.
  \n \nDay 2Dartlo - Kvavlo tower - Bochorda - Panorama\nToday\, We will e
 xplore fortified village of Dartlo\, hike to the remote Kvavlo\, and explor
 e nearby settlements. You will have plenty of opportunities to enjoy the lo
 cal cuisine. You can go on a horse ride (optional) in the afternoon too. Go
 at Panorama – a scenic viewpoint from which lucky visitors might be able 
 to spot wild mountain goats. Next\, we will head to Bochorna – the highes
 t settlement in Europe (2\,345 m.a.s.l.).\n \nDay 3Omalo – Abano Pass 
 – Lechuri – Tbilisi\nOur last day in Tusheti will we will head back tow
 ard Tbilisi. Short breaks at scenic spots will help us to ease the ride. We
  will also stop to eat late lunch in a local restaurant. Return to Tbilisi 
 late in the evening. The end of the tour.\n \n \nInclusions:\n\nALL Trans
 fers (4WD)\nSightseeing/hiking itinerary with an English-speaking guide wit
 h excellent knowledge of Tusheti\nAccommodation in shared twin/double rooms
  in a local guesthouse (2 nights)\,\nBreakfast on Day 2 and Day 3\nDinner o
 n Day 1 and Day 2\nEntrance fees as per itinerary\n\n\n \n\nExclusions:\n\
 nPersonal travel insurance\nMeals not mentioned in the itinerary\nGratitude
 s\n\n\n \nNote:Please check Terms and Conditions for our cancellation and 
 insurance policy\n \n\nHOW TO PREPARE FOR THE TOUR\n\nMEETING TIME AND PLA
 CEWe meet  07:00 at Samaia Garden. Please be on time. In case of any delay
 s\, please inform your guide. Otherwise\, the group will depart without you
 .\nDOCUMENTSPlease bring your valid PASSPORTS to access some areas. Please 
 bring them with you to show them to the border guards.\nWEATHERGeorgian wea
 ther changes often. For this reason\, it’s essential to follow the weathe
 r forecast closely. Here is the forecast link.  Please check it the night 
 before the tour to be well prepared.\nWHAT TO WEARPlease wear clothes appro
 priate to the weather. Bring layers. The days are warm in Tusheti\, but the
  evenings get chilly. Additionally\, you will cross Abano Pass at an altitu
 de of 2826 m a.s.l. It gets cold up there. You will need touring shoes (or 
 trail shoes/trekking shoes) may come in handy. Bring sun cream\, hats\, and
  sunglasses to protect from the sun. Wear comfortable walking/ sports shoes
  for the hikes. Just in case\, you may also pack a raincoat.\nROAD TO TUSHE
 TIIt’s long\, bumpy\, and requires many hours in the car. It may even get
  scary if it runs along a deep canyon. If you are prone to motion sickness\
 , bring the meds and take them 1h before the ride. We will be taking plenty
  of stops to take photos and to rest. If you need to stop\, let your guide 
 know. We’ll stop as soon as they find a good place for that.\nFOOD & DRIN
 KSAlways make sure to have enough drinking water. 1.5-2 liters should be en
 ough for Day 1. Also\, make sure to bring snacks - sandwiches\, dried fruit
 \, and sweets for the road. They will help you maintain your energy levels.
  Amazing homemade Georgian cuisine is included in the price of the tour. We
  will eat them in your guesthouse. The price doesn’t cover lunches\, but 
 you may order them locally. There are no supermarkets in Tusheti. We will b
 e eating homemade Georgian cuisine. Please let us know if you have food lim
 itations well in advance. We will let you know to what degree we can accomm
 odate you. The food choice is limited. If you are vegetarian\, you cannot g
 o without\, please bring it with you.\nBRING CASHThere are NO ATMs in Tushe
 ti\, and people accept only cash. Local costs up to 25- 65 GEL per person. 
 You may also want to spend on local souvenirs (20-50 gel) or an optional ho
 rse ride.\nOTHERDo not expect to have mobile coverage everywhere. Due to mo
 tion sickness\, please avoid using your phone. Bring a day pack to carry im
 portant items with you. Be prepared that people are conserving electric ene
 rgy\, which they mostly get from solar panels. You may experience issues wi
 th heaters\, phones\, and hot water\, as well as washing machines\, and oth
 er similar devices at home.\nGUIDE We will send you guide's contact detail
 s a few days before the tour. Please make sure to check your inbox and spam
 .
LOCATION:Tusheti\, Georgia
DTSTAMP:20260423T132951Z
DTSTART:20260710T030000Z
DTEND:20260712T170000Z
END:VEVENT
END:VCALENDAR
